BEGIN:VCALENDAR
VERSION:2.0
PRODID:-////NONSGML kigkonsult.se iCalcreator 2.18//
X-WR-TIMEZONE:Europe/Berlin
BEGIN:VTIMEZONE
TZID:Europe/Berlin
X-LIC-LOCATION:Europe/Berlin
BEGIN:STANDARD
DTSTART:20201025T030000
TZOFFSETFROM:+0200
TZOFFSETTO:+0100
RDATE:20211031T030000
TZNAME:CET
END:STANDARD
BEGIN:DAYLIGHT
DTSTART:20210328T020000
TZOFFSETFROM:+0100
TZOFFSETTO:+0200
RDATE:20220327T020000
TZNAME:CEST
END:DAYLIGHT
END:VTIMEZONE
BEGIN:VEVENT
UID:20260426T004104UTC-7376z0eBOn@85.215.121.98
DTSTAMP:20260426T004104Z
DTSTART;TZID=Europe/Berlin:20200801T170000
DTEND;TZID=Europe/Berlin:20200801T184500
SUMMARY:K - 2. Klasse B 2020/21: Arriach - Landskron 1b
END:VEVENT
BEGIN:VEVENT
UID:20260426T004104UTC-7383j7PObW@85.215.121.98
DTSTAMP:20260426T004104Z
DTSTART;TZID=Europe/Berlin:20200808T180000
DTEND;TZID=Europe/Berlin:20200808T194500
SUMMARY:K - 2. Klasse B 2020/21: Bad Bleiberg - Arriach
END:VEVENT
BEGIN:VEVENT
UID:20260426T004104UTC-73891CvfU2@85.215.121.98
DTSTAMP:20260426T004104Z
DTSTART;TZID=Europe/Berlin:20200815T170000
DTEND;TZID=Europe/Berlin:20200815T184500
SUMMARY:K - 2. Klasse B 2020/21: Arriach - Afritz
END:VEVENT
BEGIN:VEVENT
UID:20260426T004104UTC-7395SoOv4n@85.215.121.98
DTSTAMP:20260426T004104Z
DTSTART;TZID=Europe/Berlin:20200823T160000
DTEND;TZID=Europe/Berlin:20200823T174500
SUMMARY:K - 2. Klasse B 2020/21: Arriach - Obermillstatt
END:VEVENT
BEGIN:VEVENT
UID:20260426T004104UTC-7400gBsovh@85.215.121.98
DTSTAMP:20260426T004104Z
DTSTART;TZID=Europe/Berlin:20200829T170000
DTEND;TZID=Europe/Berlin:20200829T184500
SUMMARY:K - 2. Klasse B 2020/21: Treffen - Arriach
END:VEVENT
BEGIN:VEVENT
UID:20260426T004104UTC-7407RuV3Nh@85.215.121.98
DTSTAMP:20260426T004104Z
DTSTART;TZID=Europe/Berlin:20200906T160000
DTEND;TZID=Europe/Berlin:20200906T174500
SUMMARY:K - 2. Klasse B 2020/21: Arriach - Ferndorf
END:VEVENT
BEGIN:VEVENT
UID:20260426T004104UTC-7412meChor@85.215.121.98
DTSTAMP:20260426T004104Z
DTSTART;TZID=Europe/Berlin:20200913T160000
DTEND;TZID=Europe/Berlin:20200913T174500
SUMMARY:K - 2. Klasse B 2020/21: Arnoldstein - Arriach
END:VEVENT
BEGIN:VEVENT
UID:20260426T004104UTC-7420RU96wA@85.215.121.98
DTSTAMP:20260426T004104Z
DTSTART;TZID=Europe/Berlin:20200920T160000
DTEND;TZID=Europe/Berlin:20200920T174500
SUMMARY:K - 2. Klasse B 2020/21: Arriach - Kleinkirchheim
END:VEVENT
BEGIN:VEVENT
UID:20260426T004104UTC-7425ejEMvB@85.215.121.98
DTSTAMP:20260426T004104Z
DTSTART;TZID=Europe/Berlin:20200926T160000
DTEND;TZID=Europe/Berlin:20200926T174500
SUMMARY:K - 2. Klasse B 2020/21: SG SV St. Jakob/Ros/DSG Ledenitzen 1b - Ar
 riach
END:VEVENT
BEGIN:VEVENT
UID:20260426T004104UTC-7431k3Wzl8@85.215.121.98
DTSTAMP:20260426T004104Z
DTSTART;TZID=Europe/Berlin:20201003T150000
DTEND;TZID=Europe/Berlin:20201003T164500
SUMMARY:K - 2. Klasse B 2020/21: Arriach - Bodensdorf
END:VEVENT
BEGIN:VEVENT
UID:20260426T004104UTC-74382sUM1w@85.215.121.98
DTSTAMP:20260426T004104Z
DTSTART;TZID=Europe/Berlin:20201017T150000
DTEND;TZID=Europe/Berlin:20201017T164500
SUMMARY:K - 2. Klasse B 2020/21: Arriach - Admira Villach 1b
END:VEVENT
BEGIN:VEVENT
UID:20260426T004104UTC-7444vtc5dx@85.215.121.98
DTSTAMP:20260426T004104Z
DTSTART;TZID=Europe/Berlin:20201024T140000
DTEND;TZID=Europe/Berlin:20201024T154500
SUMMARY:K - 2. Klasse B 2020/21: Rosegg - Arriach
END:VEVENT
BEGIN:VEVENT
UID:20260426T004104UTC-7450oApdEu@85.215.121.98
DTSTAMP:20260426T004104Z
DTSTART;TZID=Europe/Berlin:20201026T140000
DTEND;TZID=Europe/Berlin:20201026T154500
SUMMARY:K - 2. Klasse B 2020/21: Draschitz - Arriach
END:VEVENT
BEGIN:VEVENT
UID:20260426T004104UTC-7456fnAuGp@85.215.121.98
DTSTAMP:20260426T004104Z
DTSTART;TZID=Europe/Berlin:20201031T140000
DTEND;TZID=Europe/Berlin:20201031T154500
SUMMARY:K - 2. Klasse B 2020/21: Arriach - Töplitsch
END:VEVENT
BEGIN:VEVENT
UID:20260426T004104UTC-7464Kk40DW@85.215.121.98
DTSTAMP:20260426T004104Z
DTSTART;TZID=Europe/Berlin:20210321T150000
DTEND;TZID=Europe/Berlin:20210321T164500
SUMMARY:K - 2. Klasse B 2020/21: Arriach - Bad Bleiberg
END:VEVENT
BEGIN:VEVENT
UID:20260426T004104UTC-7470hlasNI@85.215.121.98
DTSTAMP:20260426T004104Z
DTSTART;TZID=Europe/Berlin:20210327T140000
DTEND;TZID=Europe/Berlin:20210327T154500
SUMMARY:K - 2. Klasse B 2020/21: Afritz - Arriach
END:VEVENT
BEGIN:VEVENT
UID:20260426T004104UTC-7476BRtf6U@85.215.121.98
DTSTAMP:20260426T004104Z
DTSTART;TZID=Europe/Berlin:20210403T170000
DTEND;TZID=Europe/Berlin:20210403T184500
SUMMARY:K - 2. Klasse B 2020/21: Obermillstatt - Arriach
END:VEVENT
BEGIN:VEVENT
UID:20260426T004104UTC-7483szoIfH@85.215.121.98
DTSTAMP:20260426T004104Z
DTSTART;TZID=Europe/Berlin:20210411T150000
DTEND;TZID=Europe/Berlin:20210411T164500
SUMMARY:K - 2. Klasse B 2020/21: Arriach - Treffen
END:VEVENT
BEGIN:VEVENT
UID:20260426T004104UTC-74901MLTgc@85.215.121.98
DTSTAMP:20260426T004104Z
DTSTART;TZID=Europe/Berlin:20210416T230000
DTEND;TZID=Europe/Berlin:20210417T004500
SUMMARY:K - 2. Klasse B 2020/21: Landskron 1b - Arriach
END:VEVENT
BEGIN:VEVENT
UID:20260426T004104UTC-7496VHPR18@85.215.121.98
DTSTAMP:20260426T004104Z
DTSTART;TZID=Europe/Berlin:20210418T153000
DTEND;TZID=Europe/Berlin:20210418T171500
SUMMARY:K - 2. Klasse B 2020/21: Ferndorf - Arriach
END:VEVENT
BEGIN:VEVENT
UID:20260426T004104UTC-7502lLfRuB@85.215.121.98
DTSTAMP:20260426T004104Z
DTSTART;TZID=Europe/Berlin:20210425T150000
DTEND;TZID=Europe/Berlin:20210425T164500
SUMMARY:K - 2. Klasse B 2020/21: Arriach - Arnoldstein
END:VEVENT
BEGIN:VEVENT
UID:20260426T004104UTC-7508zRWPpO@85.215.121.98
DTSTAMP:20260426T004104Z
DTSTART;TZID=Europe/Berlin:20210501T110000
DTEND;TZID=Europe/Berlin:20210501T124500
SUMMARY:K - 2. Klasse B 2020/21: Kleinkirchheim - Arriach
END:VEVENT
BEGIN:VEVENT
UID:20260426T004104UTC-7514LgKPWc@85.215.121.98
DTSTAMP:20260426T004104Z
DTSTART;TZID=Europe/Berlin:20210509T150000
DTEND;TZID=Europe/Berlin:20210509T164500
SUMMARY:K - 2. Klasse B 2020/21: Arriach - SG SV St. Jakob/Ros/DSG Ledenitz
 en 1b
END:VEVENT
BEGIN:VEVENT
UID:20260426T004104UTC-7520RdosUR@85.215.121.98
DTSTAMP:20260426T004104Z
DTSTART;TZID=Europe/Berlin:20210513T170000
DTEND;TZID=Europe/Berlin:20210513T184500
SUMMARY:K - 2. Klasse B 2020/21: Bodensdorf - Arriach
END:VEVENT
BEGIN:VEVENT
UID:20260426T004104UTC-75275veuxC@85.215.121.98
DTSTAMP:20260426T004104Z
DTSTART;TZID=Europe/Berlin:20210516T150000
DTEND;TZID=Europe/Berlin:20210516T164500
SUMMARY:K - 2. Klasse B 2020/21: Arriach - Draschitz
END:VEVENT
BEGIN:VEVENT
UID:20260426T004104UTC-75334C6Urn@85.215.121.98
DTSTAMP:20260426T004104Z
DTSTART;TZID=Europe/Berlin:20210523T230000
DTEND;TZID=Europe/Berlin:20210524T004500
SUMMARY:K - 2. Klasse B 2020/21: Admira Villach 1b - Arriach
END:VEVENT
BEGIN:VEVENT
UID:20260426T004104UTC-75418EeLzU@85.215.121.98
DTSTAMP:20260426T004104Z
DTSTART;TZID=Europe/Berlin:20210530T150000
DTEND;TZID=Europe/Berlin:20210530T164500
SUMMARY:K - 2. Klasse B 2020/21: Arriach - Rosegg
END:VEVENT
BEGIN:VEVENT
UID:20260426T004104UTC-7546JkXWuu@85.215.121.98
DTSTAMP:20260426T004104Z
DTSTART;TZID=Europe/Berlin:20210606T230000
DTEND;TZID=Europe/Berlin:20210607T004500
SUMMARY:K - 2. Klasse B 2020/21: Töplitsch - Arriach
END:VEVENT
BEGIN:VEVENT
UID:20260426T004104UTC-7552kj4nvL@85.215.121.98
DTSTAMP:20260426T004104Z
DTSTART;TZID=Europe/Berlin:20210613T150000
DTEND;TZID=Europe/Berlin:20210613T164500
SUMMARY:K - 2. Klasse B 2020/21: Arriach - Weißenstein
END:VEVENT
BEGIN:VEVENT
UID:20260426T004104UTC-7560PUOLvM@85.215.121.98
DTSTAMP:20260426T004104Z
DTSTART;TZID=Europe/Berlin:20210626T180000
DTEND;TZID=Europe/Berlin:20210626T194500
SUMMARY:K - 2. Klasse B 2020/21: Weißenstein - Arriach
END:VEVENT
END:VCALENDAR
