BEGIN:VCALENDAR
VERSION:2.0
PRODID:-////NONSGML kigkonsult.se iCalcreator 2.18//
X-WR-TIMEZONE:Europe/Berlin
BEGIN:VTIMEZONE
TZID:Europe/Berlin
X-LIC-LOCATION:Europe/Berlin
BEGIN:STANDARD
DTSTART:20201025T030000
TZOFFSETFROM:+0200
TZOFFSETTO:+0100
RDATE:20211031T030000
TZNAME:CET
END:STANDARD
BEGIN:DAYLIGHT
DTSTART:20210328T020000
TZOFFSETFROM:+0100
TZOFFSETTO:+0200
RDATE:20220327T020000
TZNAME:CEST
END:DAYLIGHT
END:VTIMEZONE
BEGIN:VEVENT
UID:20260425T123812UTC-4709ONHWwM@85.215.121.98
DTSTAMP:20260425T123812Z
DTSTART;TZID=Europe/Berlin:20200823T170000
DTEND;TZID=Europe/Berlin:20200823T184500
SUMMARY:B - 1. Klasse Mitte 2020/21: Frankenau - Pöttsching
END:VEVENT
BEGIN:VEVENT
UID:20260425T123812UTC-4803vrs2Jj@85.215.121.98
DTSTAMP:20260425T123812Z
DTSTART;TZID=Europe/Berlin:20200904T193000
DTEND;TZID=Europe/Berlin:20200904T211500
SUMMARY:B - 1. Klasse Mitte 2020/21: Weppersdorf - Pöttsching
END:VEVENT
BEGIN:VEVENT
UID:20260425T123812UTC-4809Sz4oll@85.215.121.98
DTSTAMP:20260425T123812Z
DTSTART;TZID=Europe/Berlin:20200909T200000
DTEND;TZID=Europe/Berlin:20200909T214500
SUMMARY:B - 1. Klasse Mitte 2020/21: Pöttsching - Kobersdorf
END:VEVENT
BEGIN:VEVENT
UID:20260425T123812UTC-4815Xz8Zs6@85.215.121.98
DTSTAMP:20260425T123812Z
DTSTART;TZID=Europe/Berlin:20200911T193000
DTEND;TZID=Europe/Berlin:20200911T211500
SUMMARY:B - 1. Klasse Mitte 2020/21: Pöttsching - Kroatisch Geresdorf
END:VEVENT
BEGIN:VEVENT
UID:20260425T123812UTC-4820zNvd8S@85.215.121.98
DTSTAMP:20260425T123812Z
DTSTART;TZID=Europe/Berlin:20200920T160000
DTEND;TZID=Europe/Berlin:20200920T174500
SUMMARY:B - 1. Klasse Mitte 2020/21: Piringsdorf - Pöttsching
END:VEVENT
BEGIN:VEVENT
UID:20260425T123812UTC-4826PcV9JV@85.215.121.98
DTSTAMP:20260425T123812Z
DTSTART;TZID=Europe/Berlin:20200927T160000
DTEND;TZID=Europe/Berlin:20200927T174500
SUMMARY:B - 1. Klasse Mitte 2020/21: Pöttsching - Neckenmarkt
END:VEVENT
BEGIN:VEVENT
UID:20260425T123812UTC-4832LLaLBo@85.215.121.98
DTSTAMP:20260425T123812Z
DTSTART;TZID=Europe/Berlin:20201009T193000
DTEND;TZID=Europe/Berlin:20201009T211500
SUMMARY:B - 1. Klasse Mitte 2020/21: Pöttsching - Nikitsch
END:VEVENT
BEGIN:VEVENT
UID:20260425T123812UTC-4839kIXEeE@85.215.121.98
DTSTAMP:20260425T123812Z
DTSTART;TZID=Europe/Berlin:20201017T190000
DTEND;TZID=Europe/Berlin:20201017T204500
SUMMARY:B - 1. Klasse Mitte 2020/21: Stoob - Pöttsching
END:VEVENT
BEGIN:VEVENT
UID:20260425T123812UTC-4846LIFCsr@85.215.121.98
DTSTAMP:20260425T123812Z
DTSTART;TZID=Europe/Berlin:20201023T193000
DTEND;TZID=Europe/Berlin:20201023T211500
SUMMARY:B - 1. Klasse Mitte 2020/21: Pöttsching - ASV Draßburg
END:VEVENT
BEGIN:VEVENT
UID:20260425T123812UTC-4854ejEjsV@85.215.121.98
DTSTAMP:20260425T123812Z
DTSTART;TZID=Europe/Berlin:20201026T140000
DTEND;TZID=Europe/Berlin:20201026T154500
SUMMARY:B - 1. Klasse Mitte 2020/21: Bad Sauerbrunn 1b - Pöttsching
END:VEVENT
BEGIN:VEVENT
UID:20260425T123812UTC-4860hrjK5k@85.215.121.98
DTSTAMP:20260425T123812Z
DTSTART;TZID=Europe/Berlin:20201030T193000
DTEND;TZID=Europe/Berlin:20201030T211500
SUMMARY:B - 1. Klasse Mitte 2020/21: Pöttsching - HRVATI
END:VEVENT
BEGIN:VEVENT
UID:20260425T123812UTC-4865fFtEXW@85.215.121.98
DTSTAMP:20260425T123812Z
DTSTART;TZID=Europe/Berlin:20201107T150000
DTEND;TZID=Europe/Berlin:20201107T164500
SUMMARY:B - 1. Klasse Mitte 2020/21: Loipersbach - Pöttsching
END:VEVENT
BEGIN:VEVENT
UID:20260425T123812UTC-4872MvzKNG@85.215.121.98
DTSTAMP:20260425T123812Z
DTSTART;TZID=Europe/Berlin:20201113T193000
DTEND;TZID=Europe/Berlin:20201113T211500
SUMMARY:B - 1. Klasse Mitte 2020/21: Pöttsching - Kroatisch Minihof
END:VEVENT
BEGIN:VEVENT
UID:20260425T123812UTC-4877ItJEEv@85.215.121.98
DTSTAMP:20260425T123812Z
DTSTART;TZID=Europe/Berlin:20201122T140000
DTEND;TZID=Europe/Berlin:20201122T154500
SUMMARY:B - 1. Klasse Mitte 2020/21: Unterrabnitz - Pöttsching
END:VEVENT
BEGIN:VEVENT
UID:20260425T123812UTC-4883ra4m8F@85.215.121.98
DTSTAMP:20260425T123812Z
DTSTART;TZID=Europe/Berlin:20210306T150000
DTEND;TZID=Europe/Berlin:20210306T164500
SUMMARY:B - 1. Klasse Mitte 2020/21: Pöttsching - Frankenau
END:VEVENT
BEGIN:VEVENT
UID:20260425T123812UTC-48915VoCVZ@85.215.121.98
DTSTAMP:20260425T123812Z
DTSTART;TZID=Europe/Berlin:20210313T150000
DTEND;TZID=Europe/Berlin:20210313T164500
SUMMARY:B - 1. Klasse Mitte 2020/21: Kobersdorf - Pöttsching
END:VEVENT
BEGIN:VEVENT
UID:20260425T123812UTC-4897oD5J1Z@85.215.121.98
DTSTAMP:20260425T123812Z
DTSTART;TZID=Europe/Berlin:20210320T150000
DTEND;TZID=Europe/Berlin:20210320T164500
SUMMARY:B - 1. Klasse Mitte 2020/21: Pöttsching - Weppersdorf
END:VEVENT
BEGIN:VEVENT
UID:20260425T123812UTC-4903IsVrNE@85.215.121.98
DTSTAMP:20260425T123812Z
DTSTART;TZID=Europe/Berlin:20210327T150000
DTEND;TZID=Europe/Berlin:20210327T164500
SUMMARY:B - 1. Klasse Mitte 2020/21: Kroatisch Geresdorf - Pöttsching
END:VEVENT
BEGIN:VEVENT
UID:20260425T123812UTC-4909CvrwB3@85.215.121.98
DTSTAMP:20260425T123812Z
DTSTART;TZID=Europe/Berlin:20210403T160000
DTEND;TZID=Europe/Berlin:20210403T174500
SUMMARY:B - 1. Klasse Mitte 2020/21: Pöttsching - Piringsdorf
END:VEVENT
BEGIN:VEVENT
UID:20260425T123812UTC-4915mu9Ivk@85.215.121.98
DTSTAMP:20260425T123812Z
DTSTART;TZID=Europe/Berlin:20210410T163000
DTEND;TZID=Europe/Berlin:20210410T181500
SUMMARY:B - 1. Klasse Mitte 2020/21: Neckenmarkt - Pöttsching
END:VEVENT
BEGIN:VEVENT
UID:20260425T123812UTC-4921Hz0kZL@85.215.121.98
DTSTAMP:20260425T123812Z
DTSTART;TZID=Europe/Berlin:20210424T163000
DTEND;TZID=Europe/Berlin:20210424T181500
SUMMARY:B - 1. Klasse Mitte 2020/21: Nikitsch - Pöttsching
END:VEVENT
BEGIN:VEVENT
UID:20260425T123812UTC-4926STCROu@85.215.121.98
DTSTAMP:20260425T123812Z
DTSTART;TZID=Europe/Berlin:20210501T170000
DTEND;TZID=Europe/Berlin:20210501T184500
SUMMARY:B - 1. Klasse Mitte 2020/21: Pöttsching - Stoob
END:VEVENT
BEGIN:VEVENT
UID:20260425T123812UTC-4932cbJZk8@85.215.121.98
DTSTAMP:20260425T123812Z
DTSTART;TZID=Europe/Berlin:20210508T170000
DTEND;TZID=Europe/Berlin:20210508T184500
SUMMARY:B - 1. Klasse Mitte 2020/21: ASV Draßburg - Pöttsching
END:VEVENT
BEGIN:VEVENT
UID:20260425T123812UTC-4937zjvn9p@85.215.121.98
DTSTAMP:20260425T123812Z
DTSTART;TZID=Europe/Berlin:20210515T170000
DTEND;TZID=Europe/Berlin:20210515T184500
SUMMARY:B - 1. Klasse Mitte 2020/21: Pöttsching - Bad Sauerbrunn 1b
END:VEVENT
BEGIN:VEVENT
UID:20260425T123812UTC-4943dOjV61@85.215.121.98
DTSTAMP:20260425T123812Z
DTSTART;TZID=Europe/Berlin:20210522T173000
DTEND;TZID=Europe/Berlin:20210522T191500
SUMMARY:B - 1. Klasse Mitte 2020/21: HRVATI - Pöttsching
END:VEVENT
BEGIN:VEVENT
UID:20260425T123812UTC-4948JuuhxS@85.215.121.98
DTSTAMP:20260425T123812Z
DTSTART;TZID=Europe/Berlin:20210529T173000
DTEND;TZID=Europe/Berlin:20210529T191500
SUMMARY:B - 1. Klasse Mitte 2020/21: Pöttsching - Loipersbach
END:VEVENT
BEGIN:VEVENT
UID:20260425T123812UTC-4954VeHJ5h@85.215.121.98
DTSTAMP:20260425T123812Z
DTSTART;TZID=Europe/Berlin:20210605T173000
DTEND;TZID=Europe/Berlin:20210605T191500
SUMMARY:B - 1. Klasse Mitte 2020/21: Kroatisch Minihof - Pöttsching
END:VEVENT
BEGIN:VEVENT
UID:20260425T123812UTC-49606B4a4u@85.215.121.98
DTSTAMP:20260425T123812Z
DTSTART;TZID=Europe/Berlin:20210612T173000
DTEND;TZID=Europe/Berlin:20210612T191500
SUMMARY:B - 1. Klasse Mitte 2020/21: Pöttsching - Unterrabnitz
END:VEVENT
END:VCALENDAR
