BEGIN:VCALENDAR
VERSION:2.0
PRODID:-////NONSGML kigkonsult.se iCalcreator 2.18//
X-WR-TIMEZONE:Europe/Berlin
BEGIN:VTIMEZONE
TZID:Europe/Berlin
X-LIC-LOCATION:Europe/Berlin
BEGIN:STANDARD
DTSTART:20201025T030000
TZOFFSETFROM:+0200
TZOFFSETTO:+0100
RDATE:20211031T030000
TZNAME:CET
END:STANDARD
BEGIN:DAYLIGHT
DTSTART:20210328T020000
TZOFFSETFROM:+0100
TZOFFSETTO:+0200
RDATE:20220327T020000
TZNAME:CEST
END:DAYLIGHT
END:VTIMEZONE
BEGIN:VEVENT
UID:20260424T034817UTC-9570m5v8FK@85.215.121.98
DTSTAMP:20260424T034817Z
DTSTART;TZID=Europe/Berlin:20200822T190000
DTEND;TZID=Europe/Berlin:20200822T204500
SUMMARY:B - 1. Klasse Mitte 2020/21: Unterrabnitz - Kobersdorf
END:VEVENT
BEGIN:VEVENT
UID:20260424T034817UTC-95761Hh7Kh@85.215.121.98
DTSTAMP:20260424T034817Z
DTSTART;TZID=Europe/Berlin:20200830T163000
DTEND;TZID=Europe/Berlin:20200830T181500
SUMMARY:B - 1. Klasse Mitte 2020/21: Kroatisch Geresdorf - Unterrabnitz
END:VEVENT
BEGIN:VEVENT
UID:20260424T034817UTC-9582RLV4SU@85.215.121.98
DTSTAMP:20260424T034817Z
DTSTART;TZID=Europe/Berlin:20200905T190000
DTEND;TZID=Europe/Berlin:20200905T204500
SUMMARY:B - 1. Klasse Mitte 2020/21: Unterrabnitz - Neckenmarkt
END:VEVENT
BEGIN:VEVENT
UID:20260424T034817UTC-9588v8vA2u@85.215.121.98
DTSTAMP:20260424T034817Z
DTSTART;TZID=Europe/Berlin:20200918T193000
DTEND;TZID=Europe/Berlin:20200918T211500
SUMMARY:B - 1. Klasse Mitte 2020/21: Unterrabnitz - ASV Draßburg
END:VEVENT
BEGIN:VEVENT
UID:20260424T034817UTC-9594sxvxGa@85.215.121.98
DTSTAMP:20260424T034817Z
DTSTART;TZID=Europe/Berlin:20200926T180000
DTEND;TZID=Europe/Berlin:20200926T194500
SUMMARY:B - 1. Klasse Mitte 2020/21: HRVATI - Unterrabnitz
END:VEVENT
BEGIN:VEVENT
UID:20260424T034817UTC-9602kBkxDZ@85.215.121.98
DTSTAMP:20260424T034817Z
DTSTART;TZID=Europe/Berlin:20200929T193000
DTEND;TZID=Europe/Berlin:20200929T211500
SUMMARY:B - 1. Klasse Mitte 2020/21: Nikitsch - Unterrabnitz
END:VEVENT
BEGIN:VEVENT
UID:20260424T034817UTC-9609785eKV@85.215.121.98
DTSTAMP:20260424T034817Z
DTSTART;TZID=Europe/Berlin:20201003T190000
DTEND;TZID=Europe/Berlin:20201003T204500
SUMMARY:B - 1. Klasse Mitte 2020/21: Unterrabnitz - Kroatisch Minihof
END:VEVENT
BEGIN:VEVENT
UID:20260424T034817UTC-9616sHpiGv@85.215.121.98
DTSTAMP:20260424T034817Z
DTSTART;TZID=Europe/Berlin:20201018T150000
DTEND;TZID=Europe/Berlin:20201018T164500
SUMMARY:B - 1. Klasse Mitte 2020/21: Unterrabnitz - Weppersdorf
END:VEVENT
BEGIN:VEVENT
UID:20260424T034817UTC-9621djH933@85.215.121.98
DTSTAMP:20260424T034817Z
DTSTART;TZID=Europe/Berlin:20201024T150000
DTEND;TZID=Europe/Berlin:20201024T164500
SUMMARY:B - 1. Klasse Mitte 2020/21: Piringsdorf - Unterrabnitz
END:VEVENT
BEGIN:VEVENT
UID:20260424T034817UTC-9626El96sU@85.215.121.98
DTSTAMP:20260424T034817Z
DTSTART;TZID=Europe/Berlin:20201031T190000
DTEND;TZID=Europe/Berlin:20201031T204500
SUMMARY:B - 1. Klasse Mitte 2020/21: Stoob - Unterrabnitz
END:VEVENT
BEGIN:VEVENT
UID:20260424T034817UTC-96322g9NCl@85.215.121.98
DTSTAMP:20260424T034817Z
DTSTART;TZID=Europe/Berlin:20201107T140000
DTEND;TZID=Europe/Berlin:20201107T154500
SUMMARY:B - 1. Klasse Mitte 2020/21: Unterrabnitz - Bad Sauerbrunn 1b
END:VEVENT
BEGIN:VEVENT
UID:20260424T034817UTC-96382SKKiU@85.215.121.98
DTSTAMP:20260424T034817Z
DTSTART;TZID=Europe/Berlin:20201114T150000
DTEND;TZID=Europe/Berlin:20201114T164500
SUMMARY:B - 1. Klasse Mitte 2020/21: Loipersbach - Unterrabnitz
END:VEVENT
BEGIN:VEVENT
UID:20260424T034817UTC-96448VpIuj@85.215.121.98
DTSTAMP:20260424T034817Z
DTSTART;TZID=Europe/Berlin:20201122T140000
DTEND;TZID=Europe/Berlin:20201122T154500
SUMMARY:B - 1. Klasse Mitte 2020/21: Unterrabnitz - Pöttsching
END:VEVENT
BEGIN:VEVENT
UID:20260424T034817UTC-9649MfNf0d@85.215.121.98
DTSTAMP:20260424T034817Z
DTSTART;TZID=Europe/Berlin:20201128T140000
DTEND;TZID=Europe/Berlin:20201128T154500
SUMMARY:B - 1. Klasse Mitte 2020/21: Frankenau - Unterrabnitz
END:VEVENT
BEGIN:VEVENT
UID:20260424T034817UTC-9655Lrkr1B@85.215.121.98
DTSTAMP:20260424T034817Z
DTSTART;TZID=Europe/Berlin:20210306T150000
DTEND;TZID=Europe/Berlin:20210306T164500
SUMMARY:B - 1. Klasse Mitte 2020/21: Kobersdorf - Unterrabnitz
END:VEVENT
BEGIN:VEVENT
UID:20260424T034817UTC-9661vvxub6@85.215.121.98
DTSTAMP:20260424T034817Z
DTSTART;TZID=Europe/Berlin:20210313T150000
DTEND;TZID=Europe/Berlin:20210313T164500
SUMMARY:B - 1. Klasse Mitte 2020/21: Unterrabnitz - Kroatisch Geresdorf
END:VEVENT
BEGIN:VEVENT
UID:20260424T034817UTC-9666zINTIX@85.215.121.98
DTSTAMP:20260424T034817Z
DTSTART;TZID=Europe/Berlin:20210320T150000
DTEND;TZID=Europe/Berlin:20210320T164500
SUMMARY:B - 1. Klasse Mitte 2020/21: Neckenmarkt - Unterrabnitz
END:VEVENT
BEGIN:VEVENT
UID:20260424T034817UTC-9671Tt8zF8@85.215.121.98
DTSTAMP:20260424T034817Z
DTSTART;TZID=Europe/Berlin:20210327T150000
DTEND;TZID=Europe/Berlin:20210327T164500
SUMMARY:B - 1. Klasse Mitte 2020/21: Unterrabnitz - Nikitsch
END:VEVENT
BEGIN:VEVENT
UID:20260424T034817UTC-9677SXAD0s@85.215.121.98
DTSTAMP:20260424T034817Z
DTSTART;TZID=Europe/Berlin:20210403T160000
DTEND;TZID=Europe/Berlin:20210403T174500
SUMMARY:B - 1. Klasse Mitte 2020/21: ASV Draßburg - Unterrabnitz
END:VEVENT
BEGIN:VEVENT
UID:20260424T034817UTC-9683HVlS0p@85.215.121.98
DTSTAMP:20260424T034817Z
DTSTART;TZID=Europe/Berlin:20210410T163000
DTEND;TZID=Europe/Berlin:20210410T181500
SUMMARY:B - 1. Klasse Mitte 2020/21: Unterrabnitz - HRVATI
END:VEVENT
BEGIN:VEVENT
UID:20260424T034817UTC-9688Se0upE@85.215.121.98
DTSTAMP:20260424T034817Z
DTSTART;TZID=Europe/Berlin:20210417T163000
DTEND;TZID=Europe/Berlin:20210417T181500
SUMMARY:B - 1. Klasse Mitte 2020/21: Kroatisch Minihof - Unterrabnitz
END:VEVENT
BEGIN:VEVENT
UID:20260424T034817UTC-9695pjCvjV@85.215.121.98
DTSTAMP:20260424T034817Z
DTSTART;TZID=Europe/Berlin:20210424T163000
DTEND;TZID=Europe/Berlin:20210424T181500
SUMMARY:B - 1. Klasse Mitte 2020/21: Unterrabnitz - Frankenau
END:VEVENT
BEGIN:VEVENT
UID:20260424T034817UTC-9702RpNkRX@85.215.121.98
DTSTAMP:20260424T034817Z
DTSTART;TZID=Europe/Berlin:20210501T170000
DTEND;TZID=Europe/Berlin:20210501T184500
SUMMARY:B - 1. Klasse Mitte 2020/21: Weppersdorf - Unterrabnitz
END:VEVENT
BEGIN:VEVENT
UID:20260424T034817UTC-9710vbx3rF@85.215.121.98
DTSTAMP:20260424T034817Z
DTSTART;TZID=Europe/Berlin:20210508T170000
DTEND;TZID=Europe/Berlin:20210508T184500
SUMMARY:B - 1. Klasse Mitte 2020/21: Unterrabnitz - Piringsdorf
END:VEVENT
BEGIN:VEVENT
UID:20260424T034817UTC-9716InPJPF@85.215.121.98
DTSTAMP:20260424T034817Z
DTSTART;TZID=Europe/Berlin:20210522T173000
DTEND;TZID=Europe/Berlin:20210522T191500
SUMMARY:B - 1. Klasse Mitte 2020/21: Unterrabnitz - Stoob
END:VEVENT
BEGIN:VEVENT
UID:20260424T034817UTC-9725pvAdsu@85.215.121.98
DTSTAMP:20260424T034817Z
DTSTART;TZID=Europe/Berlin:20210529T173000
DTEND;TZID=Europe/Berlin:20210529T191500
SUMMARY:B - 1. Klasse Mitte 2020/21: Bad Sauerbrunn 1b - Unterrabnitz
END:VEVENT
BEGIN:VEVENT
UID:20260424T034817UTC-9732lUGIRI@85.215.121.98
DTSTAMP:20260424T034817Z
DTSTART;TZID=Europe/Berlin:20210605T173000
DTEND;TZID=Europe/Berlin:20210605T191500
SUMMARY:B - 1. Klasse Mitte 2020/21: Unterrabnitz - Loipersbach
END:VEVENT
BEGIN:VEVENT
UID:20260424T034817UTC-9739ffZJt9@85.215.121.98
DTSTAMP:20260424T034817Z
DTSTART;TZID=Europe/Berlin:20210612T173000
DTEND;TZID=Europe/Berlin:20210612T191500
SUMMARY:B - 1. Klasse Mitte 2020/21: Pöttsching - Unterrabnitz
END:VEVENT
END:VCALENDAR
