BEGIN:VCALENDAR
VERSION:2.0
PRODID:-////NONSGML kigkonsult.se iCalcreator 2.18//
X-WR-TIMEZONE:Europe/Berlin
BEGIN:VTIMEZONE
TZID:Europe/Berlin
X-LIC-LOCATION:Europe/Berlin
BEGIN:STANDARD
DTSTART:20171029T030000
TZOFFSETFROM:+0200
TZOFFSETTO:+0100
RDATE:20181028T030000
TZNAME:CET
END:STANDARD
BEGIN:DAYLIGHT
DTSTART:20180325T020000
TZOFFSETFROM:+0100
TZOFFSETTO:+0200
RDATE:20190331T020000
TZNAME:CEST
END:DAYLIGHT
END:VTIMEZONE
BEGIN:VEVENT
UID:20260425T131327UTC-2727i3Bf2f@85.215.121.98
DTSTAMP:20260425T131327Z
DTSTART;TZID=Europe/Berlin:20170729T170000
DTEND;TZID=Europe/Berlin:20170729T184500
SUMMARY:K - 2. Klasse D 2017/18: Weitensfeld - Keutschach
END:VEVENT
BEGIN:VEVENT
UID:20260425T131327UTC-2827CRJ7RF@85.215.121.98
DTSTAMP:20260425T131327Z
DTSTART;TZID=Europe/Berlin:20170806T160000
DTEND;TZID=Europe/Berlin:20170806T174500
SUMMARY:K - 2. Klasse D 2017/18: Friesach - Weitensfeld
END:VEVENT
BEGIN:VEVENT
UID:20260425T131327UTC-28411L2sFd@85.215.121.98
DTSTAMP:20260425T131327Z
DTSTART;TZID=Europe/Berlin:20170812T170000
DTEND;TZID=Europe/Berlin:20170812T184500
SUMMARY:K - 2. Klasse D 2017/18: Weitensfeld - SG ASKÖ Köttmannsdorf/ASKÖ L
 udmannsdorf Juniors 1b
END:VEVENT
BEGIN:VEVENT
UID:20260425T131327UTC-2878PAv6ZC@85.215.121.98
DTSTAMP:20260425T131327Z
DTSTART;TZID=Europe/Berlin:20170814T180000
DTEND;TZID=Europe/Berlin:20170814T194500
SUMMARY:K - 2. Klasse D 2017/18: Straßburg - Weitensfeld
END:VEVENT
BEGIN:VEVENT
UID:20260425T131327UTC-2885HlfsBT@85.215.121.98
DTSTAMP:20260425T131327Z
DTSTART;TZID=Europe/Berlin:20170827T150000
DTEND;TZID=Europe/Berlin:20170827T164500
SUMMARY:K - 2. Klasse D 2017/18: Moosburg - Weitensfeld
END:VEVENT
BEGIN:VEVENT
UID:20260425T131327UTC-2896ieMdS6@85.215.121.98
DTSTAMP:20260425T131327Z
DTSTART;TZID=Europe/Berlin:20170901T170000
DTEND;TZID=Europe/Berlin:20170901T184500
SUMMARY:K - 2. Klasse D 2017/18: Weitensfeld - KAC 1909 Juniors
END:VEVENT
BEGIN:VEVENT
UID:20260425T131327UTC-2902brd0cv@85.215.121.98
DTSTAMP:20260425T131327Z
DTSTART;TZID=Europe/Berlin:20170903T163000
DTEND;TZID=Europe/Berlin:20170903T181500
SUMMARY:K - 2. Klasse D 2017/18: Weitensfeld - Sörg
END:VEVENT
BEGIN:VEVENT
UID:20260425T131327UTC-2908hidF30@85.215.121.98
DTSTAMP:20260425T131327Z
DTSTART;TZID=Europe/Berlin:20170910T160000
DTEND;TZID=Europe/Berlin:20170910T174500
SUMMARY:K - 2. Klasse D 2017/18: Kappel - Weitensfeld
END:VEVENT
BEGIN:VEVENT
UID:20260425T131327UTC-2914BVvXFa@85.215.121.98
DTSTAMP:20260425T131327Z
DTSTART;TZID=Europe/Berlin:20170916T160000
DTEND;TZID=Europe/Berlin:20170916T174500
SUMMARY:K - 2. Klasse D 2017/18: Weitensfeld - Viktring
END:VEVENT
BEGIN:VEVENT
UID:20260425T131327UTC-2920hiWokM@85.215.121.98
DTSTAMP:20260425T131327Z
DTSTART;TZID=Europe/Berlin:20170923T150000
DTEND;TZID=Europe/Berlin:20170923T164500
SUMMARY:K - 2. Klasse D 2017/18: Weitensfeld - Kraig 1b
END:VEVENT
BEGIN:VEVENT
UID:20260425T131327UTC-2955LNepp0@85.215.121.98
DTSTAMP:20260425T131327Z
DTSTART;TZID=Europe/Berlin:20170930T150000
DTEND;TZID=Europe/Berlin:20170930T164500
SUMMARY:K - 2. Klasse D 2017/18: Gurk - Weitensfeld
END:VEVENT
BEGIN:VEVENT
UID:20260425T131327UTC-2961KxuVMW@85.215.121.98
DTSTAMP:20260425T131327Z
DTSTART;TZID=Europe/Berlin:20171007T160000
DTEND;TZID=Europe/Berlin:20171007T174500
SUMMARY:K - 2. Klasse D 2017/18: Weitensfeld - Guttaring
END:VEVENT
BEGIN:VEVENT
UID:20260425T131327UTC-2966FGrN6C@85.215.121.98
DTSTAMP:20260425T131327Z
DTSTART;TZID=Europe/Berlin:20171015T140000
DTEND;TZID=Europe/Berlin:20171015T154500
SUMMARY:K - 2. Klasse D 2017/18: SC Ebental 1b - Weitensfeld
END:VEVENT
BEGIN:VEVENT
UID:20260425T131327UTC-2972IB5sp6@85.215.121.98
DTSTAMP:20260425T131327Z
DTSTART;TZID=Europe/Berlin:20171021T150000
DTEND;TZID=Europe/Berlin:20171021T164500
SUMMARY:K - 2. Klasse D 2017/18: Weitensfeld - Maria Rain
END:VEVENT
BEGIN:VEVENT
UID:20260425T131327UTC-3240aRzmMk@85.215.121.98
DTSTAMP:20260425T131327Z
DTSTART;TZID=Europe/Berlin:20171026T143000
DTEND;TZID=Europe/Berlin:20171026T161500
SUMMARY:K - 2. Klasse D 2017/18: St. Veit - Weitensfeld
END:VEVENT
BEGIN:VEVENT
UID:20260425T131327UTC-3365Egraf6@85.215.121.98
DTSTAMP:20260425T131327Z
DTSTART;TZID=Europe/Berlin:20171104T140000
DTEND;TZID=Europe/Berlin:20171104T154500
SUMMARY:K - 2. Klasse D 2017/18: Keutschach - Weitensfeld
END:VEVENT
BEGIN:VEVENT
UID:20260425T131327UTC-3392uFwU90@85.215.121.98
DTSTAMP:20260425T131327Z
DTSTART;TZID=Europe/Berlin:20180401T140000
DTEND;TZID=Europe/Berlin:20180401T154500
SUMMARY:K - 2. Klasse D 2017/18: SG ASKÖ Köttmannsdorf/ASKÖ Ludmannsdorf Ju
 niors 1b - Weitensfeld
END:VEVENT
BEGIN:VEVENT
UID:20260425T131327UTC-3426B7HbU0@85.215.121.98
DTSTAMP:20260425T131327Z
DTSTART;TZID=Europe/Berlin:20180407T160000
DTEND;TZID=Europe/Berlin:20180407T174500
SUMMARY:K - 2. Klasse D 2017/18: Weitensfeld - Straßburg
END:VEVENT
BEGIN:VEVENT
UID:20260425T131327UTC-34340SV1du@85.215.121.98
DTSTAMP:20260425T131327Z
DTSTART;TZID=Europe/Berlin:20180414T163000
DTEND;TZID=Europe/Berlin:20180414T181500
SUMMARY:K - 2. Klasse D 2017/18: KAC 1909 Juniors - Weitensfeld
END:VEVENT
BEGIN:VEVENT
UID:20260425T131327UTC-3440U174lw@85.215.121.98
DTSTAMP:20260425T131327Z
DTSTART;TZID=Europe/Berlin:20180421T150000
DTEND;TZID=Europe/Berlin:20180421T164500
SUMMARY:K - 2. Klasse D 2017/18: Weitensfeld - Moosburg
END:VEVENT
BEGIN:VEVENT
UID:20260425T131327UTC-3446a2k434@85.215.121.98
DTSTAMP:20260425T131327Z
DTSTART;TZID=Europe/Berlin:20180428T160000
DTEND;TZID=Europe/Berlin:20180428T174500
SUMMARY:K - 2. Klasse D 2017/18: Sörg - Weitensfeld
END:VEVENT
BEGIN:VEVENT
UID:20260425T131327UTC-3451UCniLv@85.215.121.98
DTSTAMP:20260425T131327Z
DTSTART;TZID=Europe/Berlin:20180501T110000
DTEND;TZID=Europe/Berlin:20180501T124500
SUMMARY:K - 2. Klasse D 2017/18: Weitensfeld - Friesach
END:VEVENT
BEGIN:VEVENT
UID:20260425T131327UTC-3457bpw7me@85.215.121.98
DTSTAMP:20260425T131327Z
DTSTART;TZID=Europe/Berlin:20180505T150000
DTEND;TZID=Europe/Berlin:20180505T164500
SUMMARY:K - 2. Klasse D 2017/18: Weitensfeld - Kappel
END:VEVENT
BEGIN:VEVENT
UID:20260425T131327UTC-3473DfLVk5@85.215.121.98
DTSTAMP:20260425T131327Z
DTSTART;TZID=Europe/Berlin:20180510T170000
DTEND;TZID=Europe/Berlin:20180510T184500
SUMMARY:K - 2. Klasse D 2017/18: Viktring - Weitensfeld
END:VEVENT
BEGIN:VEVENT
UID:20260425T131327UTC-3480twKvSP@85.215.121.98
DTSTAMP:20260425T131327Z
DTSTART;TZID=Europe/Berlin:20180512T150000
DTEND;TZID=Europe/Berlin:20180512T164500
SUMMARY:K - 2. Klasse D 2017/18: Kraig 1b - Weitensfeld
END:VEVENT
BEGIN:VEVENT
UID:20260425T131327UTC-348550Z7VJ@85.215.121.98
DTSTAMP:20260425T131327Z
DTSTART;TZID=Europe/Berlin:20180518T180000
DTEND;TZID=Europe/Berlin:20180518T194500
SUMMARY:K - 2. Klasse D 2017/18: Weitensfeld - Gurk
END:VEVENT
BEGIN:VEVENT
UID:20260425T131327UTC-3514jvNggu@85.215.121.98
DTSTAMP:20260425T131327Z
DTSTART;TZID=Europe/Berlin:20180526T170000
DTEND;TZID=Europe/Berlin:20180526T184500
SUMMARY:K - 2. Klasse D 2017/18: Guttaring - Weitensfeld
END:VEVENT
BEGIN:VEVENT
UID:20260425T131327UTC-3522RPttNc@85.215.121.98
DTSTAMP:20260425T131327Z
DTSTART;TZID=Europe/Berlin:20180531T230000
DTEND;TZID=Europe/Berlin:20180601T004500
SUMMARY:K - 2. Klasse D 2017/18: Weitensfeld - SC Ebental 1b
END:VEVENT
BEGIN:VEVENT
UID:20260425T131327UTC-3528zp2PUl@85.215.121.98
DTSTAMP:20260425T131327Z
DTSTART;TZID=Europe/Berlin:20180602T140000
DTEND;TZID=Europe/Berlin:20180602T154500
SUMMARY:K - 2. Klasse D 2017/18: Maria Rain - Weitensfeld
END:VEVENT
BEGIN:VEVENT
UID:20260425T131327UTC-3534TGiDEf@85.215.121.98
DTSTAMP:20260425T131327Z
DTSTART;TZID=Europe/Berlin:20180609T150000
DTEND;TZID=Europe/Berlin:20180609T164500
SUMMARY:K - 2. Klasse D 2017/18: Weitensfeld - St. Veit
END:VEVENT
END:VCALENDAR
