BEGIN:VCALENDAR
VERSION:2.0
PRODID:-////NONSGML kigkonsult.se iCalcreator 2.18//
X-WR-TIMEZONE:Europe/Amsterdam
BEGIN:VTIMEZONE
TZID:Europe/Amsterdam
X-LIC-LOCATION:Europe/Amsterdam
BEGIN:STANDARD
DTSTART:20181028T030000
TZOFFSETFROM:+0200
TZOFFSETTO:+0100
RDATE:20191027T030000
TZNAME:CET
END:STANDARD
BEGIN:DAYLIGHT
DTSTART:20190331T020000
TZOFFSETFROM:+0100
TZOFFSETTO:+0200
RDATE:20200329T020000
TZNAME:CEST
END:DAYLIGHT
END:VTIMEZONE
BEGIN:VEVENT
UID:20260426T011410UTC-5350f3zkNA@85.215.121.98
DTSTAMP:20260426T011410Z
DTSTART;TZID=Europe/Amsterdam:20180811T170000
DTEND;TZID=Europe/Amsterdam:20180811T183000
SUMMARY:B - 2. Klasse Mitte 2018/19: Markt Sankt Martin - Raiding
END:VEVENT
BEGIN:VEVENT
UID:20260426T011410UTC-5476u8uxFw@85.215.121.98
DTSTAMP:20260426T011410Z
DTSTART;TZID=Europe/Amsterdam:20180818T163000
DTEND;TZID=Europe/Amsterdam:20180818T180000
SUMMARY:B - 2. Klasse Mitte 2018/19: Raiding - Dörfl
END:VEVENT
BEGIN:VEVENT
UID:20260426T011410UTC-5481H6uUhP@85.215.121.98
DTSTAMP:20260426T011410Z
DTSTART;TZID=Europe/Amsterdam:20180826T170000
DTEND;TZID=Europe/Amsterdam:20180826T183000
SUMMARY:B - 2. Klasse Mitte 2018/19: Raiding - Piringsdorf
END:VEVENT
BEGIN:VEVENT
UID:20260426T011410UTC-5487CaVtVK@85.215.121.98
DTSTAMP:20260426T011410Z
DTSTART;TZID=Europe/Amsterdam:20180901T163000
DTEND;TZID=Europe/Amsterdam:20180901T180000
SUMMARY:B - 2. Klasse Mitte 2018/19: Raiding - UFC Mannersdorf
END:VEVENT
BEGIN:VEVENT
UID:20260426T011410UTC-5492uWZIsr@85.215.121.98
DTSTAMP:20260426T011410Z
DTSTART;TZID=Europe/Amsterdam:20180907T193000
DTEND;TZID=Europe/Amsterdam:20180907T210000
SUMMARY:B - 2. Klasse Mitte 2018/19: Pöttsching - Raiding
END:VEVENT
BEGIN:VEVENT
UID:20260426T011410UTC-54991VUV7n@85.215.121.98
DTSTAMP:20260426T011410Z
DTSTART;TZID=Europe/Amsterdam:20180915T160000
DTEND;TZID=Europe/Amsterdam:20180915T173000
SUMMARY:B - 2. Klasse Mitte 2018/19: Raiding - Unterpullendorf
END:VEVENT
BEGIN:VEVENT
UID:20260426T011410UTC-5504cK6NGz@85.215.121.98
DTSTAMP:20260426T011410Z
DTSTART;TZID=Europe/Amsterdam:20180921T193000
DTEND;TZID=Europe/Amsterdam:20180921T210000
SUMMARY:B - 2. Klasse Mitte 2018/19: Unterfrauenhaid - Raiding
END:VEVENT
BEGIN:VEVENT
UID:20260426T011410UTC-5509ufbumK@85.215.121.98
DTSTAMP:20260426T011410Z
DTSTART;TZID=Europe/Amsterdam:20180929T153000
DTEND;TZID=Europe/Amsterdam:20180929T170000
SUMMARY:B - 2. Klasse Mitte 2018/19: Raiding - Lutzmannsburg
END:VEVENT
BEGIN:VEVENT
UID:20260426T011410UTC-5516I9KenW@85.215.121.98
DTSTAMP:20260426T011410Z
DTSTART;TZID=Europe/Amsterdam:20181006T170000
DTEND;TZID=Europe/Amsterdam:20181006T183000
SUMMARY:B - 2. Klasse Mitte 2018/19: Hirm - Raiding
END:VEVENT
BEGIN:VEVENT
UID:20260426T011410UTC-55210dp6lb@85.215.121.98
DTSTAMP:20260426T011410Z
DTSTART;TZID=Europe/Amsterdam:20181013T180000
DTEND;TZID=Europe/Amsterdam:20181013T193000
SUMMARY:B - 2. Klasse Mitte 2018/19: Antau - Raiding
END:VEVENT
BEGIN:VEVENT
UID:20260426T011410UTC-5529j4APPC@85.215.121.98
DTSTAMP:20260426T011410Z
DTSTART;TZID=Europe/Amsterdam:20181020T150000
DTEND;TZID=Europe/Amsterdam:20181020T163000
SUMMARY:B - 2. Klasse Mitte 2018/19: Raiding - Wiesen
END:VEVENT
BEGIN:VEVENT
UID:20260426T011410UTC-5534sWjpDO@85.215.121.98
DTSTAMP:20260426T011410Z
DTSTART;TZID=Europe/Amsterdam:20181104T140000
DTEND;TZID=Europe/Amsterdam:20181104T153000
SUMMARY:B - 2. Klasse Mitte 2018/19: Raiding - Sieggraben
END:VEVENT
BEGIN:VEVENT
UID:20260426T011410UTC-5540pP08vi@85.215.121.98
DTSTAMP:20260426T011410Z
DTSTART;TZID=Europe/Amsterdam:20181110T140000
DTEND;TZID=Europe/Amsterdam:20181110T153000
SUMMARY:B - 2. Klasse Mitte 2018/19: Tschurndorf - Raiding
END:VEVENT
BEGIN:VEVENT
UID:20260426T011410UTC-5545XJxVSS@85.215.121.98
DTSTAMP:20260426T011410Z
DTSTART;TZID=Europe/Amsterdam:20190317T150000
DTEND;TZID=Europe/Amsterdam:20190317T163000
SUMMARY:B - 2. Klasse Mitte 2018/19: Raiding - Markt Sankt Martin
END:VEVENT
BEGIN:VEVENT
UID:20260426T011410UTC-5550NK7pzo@85.215.121.98
DTSTAMP:20260426T011410Z
DTSTART;TZID=Europe/Amsterdam:20190324T150000
DTEND;TZID=Europe/Amsterdam:20190324T163000
SUMMARY:B - 2. Klasse Mitte 2018/19: Dörfl - Raiding
END:VEVENT
BEGIN:VEVENT
UID:20260426T011410UTC-5555bcZKZl@85.215.121.98
DTSTAMP:20260426T011410Z
DTSTART;TZID=Europe/Amsterdam:20190331T160000
DTEND;TZID=Europe/Amsterdam:20190331T173000
SUMMARY:B - 2. Klasse Mitte 2018/19: Piringsdorf - Raiding
END:VEVENT
BEGIN:VEVENT
UID:20260426T011410UTC-5560vJsSRT@85.215.121.98
DTSTAMP:20260426T011410Z
DTSTART;TZID=Europe/Amsterdam:20190407T163000
DTEND;TZID=Europe/Amsterdam:20190407T180000
SUMMARY:B - 2. Klasse Mitte 2018/19: UFC Mannersdorf - Raiding
END:VEVENT
BEGIN:VEVENT
UID:20260426T011410UTC-5568ZB3DdK@85.215.121.98
DTSTAMP:20260426T011410Z
DTSTART;TZID=Europe/Amsterdam:20190413T163000
DTEND;TZID=Europe/Amsterdam:20190413T180000
SUMMARY:B - 2. Klasse Mitte 2018/19: Raiding - Pöttsching
END:VEVENT
BEGIN:VEVENT
UID:20260426T011410UTC-5574HiO4Mo@85.215.121.98
DTSTAMP:20260426T011410Z
DTSTART;TZID=Europe/Amsterdam:20190421T160000
DTEND;TZID=Europe/Amsterdam:20190421T173000
SUMMARY:B - 2. Klasse Mitte 2018/19: Unterpullendorf - Raiding
END:VEVENT
BEGIN:VEVENT
UID:20260426T011410UTC-55808iCuIJ@85.215.121.98
DTSTAMP:20260426T011410Z
DTSTART;TZID=Europe/Amsterdam:20190427T170000
DTEND;TZID=Europe/Amsterdam:20190427T183000
SUMMARY:B - 2. Klasse Mitte 2018/19: Raiding - Unterfrauenhaid
END:VEVENT
BEGIN:VEVENT
UID:20260426T011410UTC-5585gnzpT2@85.215.121.98
DTSTAMP:20260426T011410Z
DTSTART;TZID=Europe/Amsterdam:20190505T170000
DTEND;TZID=Europe/Amsterdam:20190505T183000
SUMMARY:B - 2. Klasse Mitte 2018/19: Lutzmannsburg - Raiding
END:VEVENT
BEGIN:VEVENT
UID:20260426T011410UTC-55919SM7tO@85.215.121.98
DTSTAMP:20260426T011410Z
DTSTART;TZID=Europe/Amsterdam:20190512T170000
DTEND;TZID=Europe/Amsterdam:20190512T183000
SUMMARY:B - 2. Klasse Mitte 2018/19: Raiding - Hirm
END:VEVENT
BEGIN:VEVENT
UID:20260426T011410UTC-5597P6m57R@85.215.121.98
DTSTAMP:20260426T011410Z
DTSTART;TZID=Europe/Amsterdam:20190518T173000
DTEND;TZID=Europe/Amsterdam:20190518T190000
SUMMARY:B - 2. Klasse Mitte 2018/19: Raiding - Antau
END:VEVENT
BEGIN:VEVENT
UID:20260426T011410UTC-5603HcUDsM@85.215.121.98
DTSTAMP:20260426T011410Z
DTSTART;TZID=Europe/Amsterdam:20190524T193000
DTEND;TZID=Europe/Amsterdam:20190524T210000
SUMMARY:B - 2. Klasse Mitte 2018/19: Wiesen - Raiding
END:VEVENT
BEGIN:VEVENT
UID:20260426T011410UTC-5608n19DCj@85.215.121.98
DTSTAMP:20260426T011410Z
DTSTART;TZID=Europe/Amsterdam:20190601T173000
DTEND;TZID=Europe/Amsterdam:20190601T190000
SUMMARY:B - 2. Klasse Mitte 2018/19: Raiding - Tschurndorf
END:VEVENT
BEGIN:VEVENT
UID:20260426T011410UTC-5614XMoFX3@85.215.121.98
DTSTAMP:20260426T011410Z
DTSTART;TZID=Europe/Amsterdam:20190608T170000
DTEND;TZID=Europe/Amsterdam:20190608T183000
SUMMARY:B - 2. Klasse Mitte 2018/19: Sieggraben - Raiding
END:VEVENT
END:VCALENDAR
