BEGIN:VCALENDAR
VERSION:2.0
PRODID:-////NONSGML kigkonsult.se iCalcreator 2.18//
X-WR-TIMEZONE:Europe/Amsterdam
BEGIN:VTIMEZONE
TZID:Europe/Amsterdam
X-LIC-LOCATION:Europe/Amsterdam
BEGIN:STANDARD
DTSTART:20121028T030000
TZOFFSETFROM:+0200
TZOFFSETTO:+0100
RDATE:20131027T030000
TZNAME:CET
END:STANDARD
BEGIN:DAYLIGHT
DTSTART:20130331T020000
TZOFFSETFROM:+0100
TZOFFSETTO:+0200
RDATE:20140330T020000
TZNAME:CEST
END:DAYLIGHT
END:VTIMEZONE
BEGIN:VEVENT
UID:20260425T134901UTC-8554Cv6DIS@85.215.121.98
DTSTAMP:20260425T134901Z
DTSTART;TZID=Europe/Amsterdam:20120812T150000
DTEND;TZID=Europe/Amsterdam:20120812T164000
SUMMARY:B - 2. Klasse Mitte 2012/13: Frankenau - HRVATI
END:VEVENT
BEGIN:VEVENT
UID:20260425T134901UTC-8560GRtvIs@85.215.121.98
DTSTAMP:20260425T134901Z
DTSTART;TZID=Europe/Amsterdam:20120819T150000
DTEND;TZID=Europe/Amsterdam:20120819T164000
SUMMARY:B - 2. Klasse Mitte 2012/13: HRVATI - Pöttsching
END:VEVENT
BEGIN:VEVENT
UID:20260425T134901UTC-8565t54mvj@85.215.121.98
DTSTAMP:20260425T134901Z
DTSTART;TZID=Europe/Amsterdam:20120825T170000
DTEND;TZID=Europe/Amsterdam:20120825T184000
SUMMARY:B - 2. Klasse Mitte 2012/13: Nikitsch - HRVATI
END:VEVENT
BEGIN:VEVENT
UID:20260425T134901UTC-8574W98u7S@85.215.121.98
DTSTAMP:20260425T134901Z
DTSTART;TZID=Europe/Amsterdam:20120902T140000
DTEND;TZID=Europe/Amsterdam:20120902T154000
SUMMARY:B - 2. Klasse Mitte 2012/13: HRVATI - Lutzmannsburg
END:VEVENT
BEGIN:VEVENT
UID:20260425T134901UTC-8579nEEdVz@85.215.121.98
DTSTAMP:20260425T134901Z
DTSTART;TZID=Europe/Amsterdam:20120909T140000
DTEND;TZID=Europe/Amsterdam:20120909T154000
SUMMARY:B - 2. Klasse Mitte 2012/13: UFC Mannersdorf - HRVATI
END:VEVENT
BEGIN:VEVENT
UID:20260425T134901UTC-8585ZEBO83@85.215.121.98
DTSTAMP:20260425T134901Z
DTSTART;TZID=Europe/Amsterdam:20120916T140000
DTEND;TZID=Europe/Amsterdam:20120916T154000
SUMMARY:B - 2. Klasse Mitte 2012/13: HRVATI - Kroatisch Minihof
END:VEVENT
BEGIN:VEVENT
UID:20260425T134901UTC-8590zGK00G@85.215.121.98
DTSTAMP:20260425T134901Z
DTSTART;TZID=Europe/Amsterdam:20120923T140000
DTEND;TZID=Europe/Amsterdam:20120923T154000
SUMMARY:B - 2. Klasse Mitte 2012/13: Unterpullendorf - HRVATI
END:VEVENT
BEGIN:VEVENT
UID:20260425T134901UTC-8600OSazxs@85.215.121.98
DTSTAMP:20260425T134901Z
DTSTART;TZID=Europe/Amsterdam:20120930T130000
DTEND;TZID=Europe/Amsterdam:20120930T144000
SUMMARY:B - 2. Klasse Mitte 2012/13: HRVATI - Raiding
END:VEVENT
BEGIN:VEVENT
UID:20260425T134901UTC-8606Rmzl53@85.215.121.98
DTSTAMP:20260425T134901Z
DTSTART;TZID=Europe/Amsterdam:20121006T150000
DTEND;TZID=Europe/Amsterdam:20121006T164000
SUMMARY:B - 2. Klasse Mitte 2012/13: Stoob - HRVATI
END:VEVENT
BEGIN:VEVENT
UID:20260425T134901UTC-8613SwxvbK@85.215.121.98
DTSTAMP:20260425T134901Z
DTSTART;TZID=Europe/Amsterdam:20121014T130000
DTEND;TZID=Europe/Amsterdam:20121014T144000
SUMMARY:B - 2. Klasse Mitte 2012/13: HRVATI - Kleinwarasdorf
END:VEVENT
BEGIN:VEVENT
UID:20260425T134901UTC-8620XWcbDR@85.215.121.98
DTSTAMP:20260425T134901Z
DTSTART;TZID=Europe/Amsterdam:20121021T130000
DTEND;TZID=Europe/Amsterdam:20121021T144000
SUMMARY:B - 2. Klasse Mitte 2012/13: Rattersdorf - HRVATI
END:VEVENT
BEGIN:VEVENT
UID:20260425T134901UTC-8626kkZilc@85.215.121.98
DTSTAMP:20260425T134901Z
DTSTART;TZID=Europe/Amsterdam:20121028T130000
DTEND;TZID=Europe/Amsterdam:20121028T144000
SUMMARY:B - 2. Klasse Mitte 2012/13: Lackendorf - HRVATI
END:VEVENT
BEGIN:VEVENT
UID:20260425T134901UTC-8631o08mGV@85.215.121.98
DTSTAMP:20260425T134901Z
DTSTART;TZID=Europe/Amsterdam:20121104T130000
DTEND;TZID=Europe/Amsterdam:20121104T144000
SUMMARY:B - 2. Klasse Mitte 2012/13: HRVATI - Oberloisdorf
END:VEVENT
BEGIN:VEVENT
UID:20260425T134901UTC-86384iEtGA@85.215.121.98
DTSTAMP:20260425T134901Z
DTSTART;TZID=Europe/Amsterdam:20130324T140000
DTEND;TZID=Europe/Amsterdam:20130324T154000
SUMMARY:B - 2. Klasse Mitte 2012/13: HRVATI - Frankenau
END:VEVENT
BEGIN:VEVENT
UID:20260425T134901UTC-8644xuB3Wc@85.215.121.98
DTSTAMP:20260425T134901Z
DTSTART;TZID=Europe/Amsterdam:20130330T150000
DTEND;TZID=Europe/Amsterdam:20130330T164000
SUMMARY:B - 2. Klasse Mitte 2012/13: Pöttsching - HRVATI
END:VEVENT
BEGIN:VEVENT
UID:20260425T134901UTC-8650pJFmwF@85.215.121.98
DTSTAMP:20260425T134901Z
DTSTART;TZID=Europe/Amsterdam:20130406T140000
DTEND;TZID=Europe/Amsterdam:20130406T154000
SUMMARY:B - 2. Klasse Mitte 2012/13: HRVATI - Nikitsch
END:VEVENT
BEGIN:VEVENT
UID:20260425T134901UTC-8656z9cCRA@85.215.121.98
DTSTAMP:20260425T134901Z
DTSTART;TZID=Europe/Amsterdam:20130414T140000
DTEND;TZID=Europe/Amsterdam:20130414T154000
SUMMARY:B - 2. Klasse Mitte 2012/13: Lutzmannsburg - HRVATI
END:VEVENT
BEGIN:VEVENT
UID:20260425T134901UTC-8661NtZ58P@85.215.121.98
DTSTAMP:20260425T134901Z
DTSTART;TZID=Europe/Amsterdam:20130420T140000
DTEND;TZID=Europe/Amsterdam:20130420T154000
SUMMARY:B - 2. Klasse Mitte 2012/13: HRVATI - UFC Mannersdorf
END:VEVENT
BEGIN:VEVENT
UID:20260425T134901UTC-8666Vafv5B@85.215.121.98
DTSTAMP:20260425T134901Z
DTSTART;TZID=Europe/Amsterdam:20130428T140000
DTEND;TZID=Europe/Amsterdam:20130428T154000
SUMMARY:B - 2. Klasse Mitte 2012/13: Kroatisch Minihof - HRVATI
END:VEVENT
BEGIN:VEVENT
UID:20260425T134901UTC-8671BU1kt0@85.215.121.98
DTSTAMP:20260425T134901Z
DTSTART;TZID=Europe/Amsterdam:20130505T150000
DTEND;TZID=Europe/Amsterdam:20130505T164000
SUMMARY:B - 2. Klasse Mitte 2012/13: HRVATI - Unterpullendorf
END:VEVENT
BEGIN:VEVENT
UID:20260425T134901UTC-86786EelBw@85.215.121.98
DTSTAMP:20260425T134901Z
DTSTART;TZID=Europe/Amsterdam:20130512T150000
DTEND;TZID=Europe/Amsterdam:20130512T164000
SUMMARY:B - 2. Klasse Mitte 2012/13: Raiding - HRVATI
END:VEVENT
BEGIN:VEVENT
UID:20260425T134901UTC-8683fkguuW@85.215.121.98
DTSTAMP:20260425T134901Z
DTSTART;TZID=Europe/Amsterdam:20130519T140000
DTEND;TZID=Europe/Amsterdam:20130519T154000
SUMMARY:B - 2. Klasse Mitte 2012/13: HRVATI - Stoob
END:VEVENT
BEGIN:VEVENT
UID:20260425T134901UTC-8689B2WVAi@85.215.121.98
DTSTAMP:20260425T134901Z
DTSTART;TZID=Europe/Amsterdam:20130526T150000
DTEND;TZID=Europe/Amsterdam:20130526T164000
SUMMARY:B - 2. Klasse Mitte 2012/13: Kleinwarasdorf - HRVATI
END:VEVENT
BEGIN:VEVENT
UID:20260425T134901UTC-8695fd3ccZ@85.215.121.98
DTSTAMP:20260425T134901Z
DTSTART;TZID=Europe/Amsterdam:20130602T150000
DTEND;TZID=Europe/Amsterdam:20130602T164000
SUMMARY:B - 2. Klasse Mitte 2012/13: HRVATI - Rattersdorf
END:VEVENT
BEGIN:VEVENT
UID:20260425T134901UTC-8700NAAV1O@85.215.121.98
DTSTAMP:20260425T134901Z
DTSTART;TZID=Europe/Amsterdam:20130608T150000
DTEND;TZID=Europe/Amsterdam:20130608T164000
SUMMARY:B - 2. Klasse Mitte 2012/13: HRVATI - Lackendorf
END:VEVENT
BEGIN:VEVENT
UID:20260425T134901UTC-8706ri0kED@85.215.121.98
DTSTAMP:20260425T134901Z
DTSTART;TZID=Europe/Amsterdam:20130616T150000
DTEND;TZID=Europe/Amsterdam:20130616T164000
SUMMARY:B - 2. Klasse Mitte 2012/13: Oberloisdorf - HRVATI
END:VEVENT
END:VCALENDAR
