BEGIN:VCALENDAR
VERSION:2.0
PRODID:-////NONSGML kigkonsult.se iCalcreator 2.18//
X-WR-TIMEZONE:Europe/Amsterdam
BEGIN:VTIMEZONE
TZID:Europe/Amsterdam
X-LIC-LOCATION:Europe/Amsterdam
BEGIN:STANDARD
DTSTART:20161030T030000
TZOFFSETFROM:+0200
TZOFFSETTO:+0100
RDATE:20171029T030000
TZNAME:CET
END:STANDARD
BEGIN:DAYLIGHT
DTSTART:20170326T020000
TZOFFSETFROM:+0100
TZOFFSETTO:+0200
RDATE:20180325T020000
TZNAME:CEST
END:DAYLIGHT
END:VTIMEZONE
BEGIN:VEVENT
UID:20260424T102803UTC-7141uITOfV@85.215.121.98
DTSTAMP:20260424T102803Z
DTSTART;TZID=Europe/Amsterdam:20160729T180000
DTEND;TZID=Europe/Amsterdam:20160729T194000
SUMMARY:K - 2. Klasse E 2016/17: Tainach - Poggersdorf 1b
END:VEVENT
BEGIN:VEVENT
UID:20260424T102803UTC-7150z43NZm@85.215.121.98
DTSTAMP:20260424T102803Z
DTSTART;TZID=Europe/Amsterdam:20160807T160000
DTEND;TZID=Europe/Amsterdam:20160807T174000
SUMMARY:K - 2. Klasse E 2016/17: Poggersdorf 1b - ATSV Wolfsberg 1b
END:VEVENT
BEGIN:VEVENT
UID:20260424T102803UTC-7158s9jVHZ@85.215.121.98
DTSTAMP:20260424T102803Z
DTSTART;TZID=Europe/Amsterdam:20160813T180000
DTEND;TZID=Europe/Amsterdam:20160813T194000
SUMMARY:K - 2. Klasse E 2016/17: Maria Rojach - Poggersdorf 1b
END:VEVENT
BEGIN:VEVENT
UID:20260424T102803UTC-7163Fs0BOM@85.215.121.98
DTSTAMP:20260424T102803Z
DTSTART;TZID=Europe/Amsterdam:20160820T150000
DTEND;TZID=Europe/Amsterdam:20160820T164000
SUMMARY:K - 2. Klasse E 2016/17: Poggersdorf 1b - Preitenegg
END:VEVENT
BEGIN:VEVENT
UID:20260424T102803UTC-7168xuIhTp@85.215.121.98
DTSTAMP:20260424T102803Z
DTSTART;TZID=Europe/Amsterdam:20160828T173000
DTEND;TZID=Europe/Amsterdam:20160828T191000
SUMMARY:K - 2. Klasse E 2016/17: Klopeiner See - Poggersdorf 1b
END:VEVENT
BEGIN:VEVENT
UID:20260424T102803UTC-7174OVxzXo@85.215.121.98
DTSTAMP:20260424T102803Z
DTSTART;TZID=Europe/Amsterdam:20160904T150000
DTEND;TZID=Europe/Amsterdam:20160904T164000
SUMMARY:K - 2. Klasse E 2016/17: Poggersdorf 1b - SG HSV Haimburg/SC Diex
END:VEVENT
BEGIN:VEVENT
UID:20260424T102803UTC-7180w17emi@85.215.121.98
DTSTAMP:20260424T102803Z
DTSTART;TZID=Europe/Amsterdam:20160910T160000
DTEND;TZID=Europe/Amsterdam:20160910T174000
SUMMARY:K - 2. Klasse E 2016/17: Frantschach - Poggersdorf 1b
END:VEVENT
BEGIN:VEVENT
UID:20260424T102803UTC-7185SDmfVS@85.215.121.98
DTSTAMP:20260424T102803Z
DTSTART;TZID=Europe/Amsterdam:20160918T140000
DTEND;TZID=Europe/Amsterdam:20160918T154000
SUMMARY:K - 2. Klasse E 2016/17: Poggersdorf 1b - Völkermarkt 1b
END:VEVENT
BEGIN:VEVENT
UID:20260424T102803UTC-7191O0fWE6@85.215.121.98
DTSTAMP:20260424T102803Z
DTSTART;TZID=Europe/Amsterdam:20160925T103000
DTEND;TZID=Europe/Amsterdam:20160925T121000
SUMMARY:K - 2. Klasse E 2016/17: SV Magdalensberg - Poggersdorf 1b
END:VEVENT
BEGIN:VEVENT
UID:20260424T102803UTC-7197HsdZmK@85.215.121.98
DTSTAMP:20260424T102803Z
DTSTART;TZID=Europe/Amsterdam:20161002T140000
DTEND;TZID=Europe/Amsterdam:20161002T154000
SUMMARY:K - 2. Klasse E 2016/17: Poggersdorf 1b - Brückl
END:VEVENT
BEGIN:VEVENT
UID:20260424T102803UTC-7203GRHJn1@85.215.121.98
DTSTAMP:20260424T102803Z
DTSTART;TZID=Europe/Amsterdam:20161009T153000
DTEND;TZID=Europe/Amsterdam:20161009T171000
SUMMARY:K - 2. Klasse E 2016/17: Sittersdorf - Poggersdorf 1b
END:VEVENT
BEGIN:VEVENT
UID:20260424T102803UTC-7210k4a2XS@85.215.121.98
DTSTAMP:20260424T102803Z
DTSTART;TZID=Europe/Amsterdam:20161016T140000
DTEND;TZID=Europe/Amsterdam:20161016T154000
SUMMARY:K - 2. Klasse E 2016/17: Poggersdorf 1b - St. Andrä/Lav. 1b
END:VEVENT
BEGIN:VEVENT
UID:20260424T102803UTC-7215zjvMgU@85.215.121.98
DTSTAMP:20260424T102803Z
DTSTART;TZID=Europe/Amsterdam:20161023T160000
DTEND;TZID=Europe/Amsterdam:20161023T174000
SUMMARY:K - 2. Klasse E 2016/17: St. Peter/Wallersberg - Poggersdorf 1b
END:VEVENT
BEGIN:VEVENT
UID:20260424T102803UTC-72201jPcmU@85.215.121.98
DTSTAMP:20260424T102803Z
DTSTART;TZID=Europe/Amsterdam:20161029T140000
DTEND;TZID=Europe/Amsterdam:20161029T154000
SUMMARY:K - 2. Klasse E 2016/17: Poggersdorf 1b - Tainach
END:VEVENT
BEGIN:VEVENT
UID:20260424T102803UTC-7227VuKgEE@85.215.121.98
DTSTAMP:20260424T102803Z
DTSTART;TZID=Europe/Amsterdam:20170326T150000
DTEND;TZID=Europe/Amsterdam:20170326T164000
SUMMARY:K - 2. Klasse E 2016/17: ATSV Wolfsberg 1b - Poggersdorf 1b
END:VEVENT
BEGIN:VEVENT
UID:20260424T102803UTC-7233oTIzaj@85.215.121.98
DTSTAMP:20260424T102803Z
DTSTART;TZID=Europe/Amsterdam:20170402T130000
DTEND;TZID=Europe/Amsterdam:20170402T144000
SUMMARY:K - 2. Klasse E 2016/17: Poggersdorf 1b - Maria Rojach
END:VEVENT
BEGIN:VEVENT
UID:20260424T102803UTC-7238EgIeUS@85.215.121.98
DTSTAMP:20260424T102803Z
DTSTART;TZID=Europe/Amsterdam:20170409T150000
DTEND;TZID=Europe/Amsterdam:20170409T164000
SUMMARY:K - 2. Klasse E 2016/17: Preitenegg - Poggersdorf 1b
END:VEVENT
BEGIN:VEVENT
UID:20260424T102803UTC-7245eVRvR3@85.215.121.98
DTSTAMP:20260424T102803Z
DTSTART;TZID=Europe/Amsterdam:20170417T140000
DTEND;TZID=Europe/Amsterdam:20170417T154000
SUMMARY:K - 2. Klasse E 2016/17: Poggersdorf 1b - Klopeiner See
END:VEVENT
BEGIN:VEVENT
UID:20260424T102803UTC-7251wbEjuD@85.215.121.98
DTSTAMP:20260424T102803Z
DTSTART;TZID=Europe/Amsterdam:20170422T150000
DTEND;TZID=Europe/Amsterdam:20170422T164000
SUMMARY:K - 2. Klasse E 2016/17: SG HSV Haimburg/SC Diex - Poggersdorf 1b
END:VEVENT
BEGIN:VEVENT
UID:20260424T102803UTC-7257XMMJHg@85.215.121.98
DTSTAMP:20260424T102803Z
DTSTART;TZID=Europe/Amsterdam:20170429T150000
DTEND;TZID=Europe/Amsterdam:20170429T164000
SUMMARY:K - 2. Klasse E 2016/17: Poggersdorf 1b - Frantschach
END:VEVENT
BEGIN:VEVENT
UID:20260424T102803UTC-7264FijwP8@85.215.121.98
DTSTAMP:20260424T102803Z
DTSTART;TZID=Europe/Amsterdam:20170508T190000
DTEND;TZID=Europe/Amsterdam:20170508T204000
SUMMARY:K - 2. Klasse E 2016/17: Völkermarkt 1b - Poggersdorf 1b
END:VEVENT
BEGIN:VEVENT
UID:20260424T102803UTC-7269U9Lbxu@85.215.121.98
DTSTAMP:20260424T102803Z
DTSTART;TZID=Europe/Amsterdam:20170514T140000
DTEND;TZID=Europe/Amsterdam:20170514T154000
SUMMARY:K - 2. Klasse E 2016/17: Poggersdorf 1b - SV Magdalensberg
END:VEVENT
BEGIN:VEVENT
UID:20260424T102803UTC-7278UsSOz2@85.215.121.98
DTSTAMP:20260424T102803Z
DTSTART;TZID=Europe/Amsterdam:20170519T183000
DTEND;TZID=Europe/Amsterdam:20170519T201000
SUMMARY:K - 2. Klasse E 2016/17: Brückl - Poggersdorf 1b
END:VEVENT
BEGIN:VEVENT
UID:20260424T102803UTC-7287VSPJ9T@85.215.121.98
DTSTAMP:20260424T102803Z
DTSTART;TZID=Europe/Amsterdam:20170526T190000
DTEND;TZID=Europe/Amsterdam:20170526T204000
SUMMARY:K - 2. Klasse E 2016/17: Poggersdorf 1b - Sittersdorf
END:VEVENT
BEGIN:VEVENT
UID:20260424T102803UTC-72921LrXmp@85.215.121.98
DTSTAMP:20260424T102803Z
DTSTART;TZID=Europe/Amsterdam:20170606T190000
DTEND;TZID=Europe/Amsterdam:20170606T204000
SUMMARY:K - 2. Klasse E 2016/17: St. Andrä/Lav. 1b - Poggersdorf 1b
END:VEVENT
BEGIN:VEVENT
UID:20260424T102803UTC-7301jLbhW1@85.215.121.98
DTSTAMP:20260424T102803Z
DTSTART;TZID=Europe/Amsterdam:20170609T193000
DTEND;TZID=Europe/Amsterdam:20170609T211000
SUMMARY:K - 2. Klasse E 2016/17: Poggersdorf 1b - St. Peter/Wallersberg
END:VEVENT
END:VCALENDAR
