BEGIN:VCALENDAR
VERSION:2.0
PRODID:-////NONSGML kigkonsult.se iCalcreator 2.18//
X-WR-TIMEZONE:Europe/Amsterdam
BEGIN:VTIMEZONE
TZID:Europe/Amsterdam
X-LIC-LOCATION:Europe/Amsterdam
BEGIN:STANDARD
DTSTART:20111030T030000
TZOFFSETFROM:+0200
TZOFFSETTO:+0100
RDATE:20121028T030000
TZNAME:CET
END:STANDARD
BEGIN:DAYLIGHT
DTSTART:20120325T020000
TZOFFSETFROM:+0100
TZOFFSETTO:+0200
RDATE:20130331T020000
TZNAME:CEST
END:DAYLIGHT
END:VTIMEZONE
BEGIN:VEVENT
UID:20260422T063545UTC-6041Uv5onv@85.215.121.98
DTSTAMP:20260422T063545Z
DTSTART;TZID=Europe/Amsterdam:20110731T180000
DTEND;TZID=Europe/Amsterdam:20110731T194500
SUMMARY:K - 2. Klasse D 2011/12: Bad St. Leonhard - Haimburg
END:VEVENT
BEGIN:VEVENT
UID:20260422T063545UTC-6167suA6Ol@85.215.121.98
DTSTAMP:20260422T063545Z
DTSTART;TZID=Europe/Amsterdam:20110807T170000
DTEND;TZID=Europe/Amsterdam:20110807T184500
SUMMARY:K - 2. Klasse D 2011/12: SAK Amateure - Bad St. Leonhard
END:VEVENT
BEGIN:VEVENT
UID:20260422T063545UTC-6172jgvx3u@85.215.121.98
DTSTAMP:20260422T063545Z
DTSTART;TZID=Europe/Amsterdam:20110814T180000
DTEND;TZID=Europe/Amsterdam:20110814T194500
SUMMARY:K - 2. Klasse D 2011/12: Bad St. Leonhard - Gurnitz
END:VEVENT
BEGIN:VEVENT
UID:20260422T063545UTC-61784cTEAW@85.215.121.98
DTSTAMP:20260422T063545Z
DTSTART;TZID=Europe/Amsterdam:20110821T170000
DTEND;TZID=Europe/Amsterdam:20110821T184500
SUMMARY:K - 2. Klasse D 2011/12: Waisenberg - Bad St. Leonhard
END:VEVENT
BEGIN:VEVENT
UID:20260422T063545UTC-6195WJUuPj@85.215.121.98
DTSTAMP:20260422T063545Z
DTSTART;TZID=Europe/Amsterdam:20110827T170000
DTEND;TZID=Europe/Amsterdam:20110827T184500
SUMMARY:K - 2. Klasse D 2011/12: Bad St. Leonhard - Ferlach DSG
END:VEVENT
BEGIN:VEVENT
UID:20260422T063545UTC-62015g5vi9@85.215.121.98
DTSTAMP:20260422T063545Z
DTSTART;TZID=Europe/Amsterdam:20110903T160000
DTEND;TZID=Europe/Amsterdam:20110903T174500
SUMMARY:K - 2. Klasse D 2011/12: Bad St. Leonhard - Diex
END:VEVENT
BEGIN:VEVENT
UID:20260422T063545UTC-6208bArCmu@85.215.121.98
DTSTAMP:20260422T063545Z
DTSTART;TZID=Europe/Amsterdam:20110911T160000
DTEND;TZID=Europe/Amsterdam:20110911T174500
SUMMARY:K - 2. Klasse D 2011/12: Eitweg - Bad St. Leonhard
END:VEVENT
BEGIN:VEVENT
UID:20260422T063545UTC-6243vwmzwl@85.215.121.98
DTSTAMP:20260422T063545Z
DTSTART;TZID=Europe/Amsterdam:20110917T163000
DTEND;TZID=Europe/Amsterdam:20110917T181500
SUMMARY:K - 2. Klasse D 2011/12: Bad St. Leonhard - Grafenstein
END:VEVENT
BEGIN:VEVENT
UID:20260422T063545UTC-6275GsF3nP@85.215.121.98
DTSTAMP:20260422T063545Z
DTSTART;TZID=Europe/Amsterdam:20110924T160000
DTEND;TZID=Europe/Amsterdam:20110924T174500
SUMMARY:K - 2. Klasse D 2011/12: Maria Rojach - Bad St. Leonhard
END:VEVENT
BEGIN:VEVENT
UID:20260422T063545UTC-6281zG7nbX@85.215.121.98
DTSTAMP:20260422T063545Z
DTSTART;TZID=Europe/Amsterdam:20111001T160000
DTEND;TZID=Europe/Amsterdam:20111001T174500
SUMMARY:K - 2. Klasse D 2011/12: Bad St. Leonhard - Frantschach
END:VEVENT
BEGIN:VEVENT
UID:20260422T063545UTC-6287Ul9Lg0@85.215.121.98
DTSTAMP:20260422T063545Z
DTSTART;TZID=Europe/Amsterdam:20111009T153000
DTEND;TZID=Europe/Amsterdam:20111009T171500
SUMMARY:K - 2. Klasse D 2011/12: Tainach - Bad St. Leonhard
END:VEVENT
BEGIN:VEVENT
UID:20260422T063545UTC-6295ENU99P@85.215.121.98
DTSTAMP:20260422T063545Z
DTSTART;TZID=Europe/Amsterdam:20111015T150000
DTEND;TZID=Europe/Amsterdam:20111015T164500
SUMMARY:K - 2. Klasse D 2011/12: Bad St. Leonhard - Preitenegg
END:VEVENT
BEGIN:VEVENT
UID:20260422T063545UTC-6301vd0oMk@85.215.121.98
DTSTAMP:20260422T063545Z
DTSTART;TZID=Europe/Amsterdam:20111023T153000
DTEND;TZID=Europe/Amsterdam:20111023T171500
SUMMARY:K - 2. Klasse D 2011/12: Klopeiner See - Bad St. Leonhard
END:VEVENT
BEGIN:VEVENT
UID:20260422T063545UTC-6307Lb0Uuz@85.215.121.98
DTSTAMP:20260422T063545Z
DTSTART;TZID=Europe/Amsterdam:20111030T140000
DTEND;TZID=Europe/Amsterdam:20111030T154500
SUMMARY:K - 2. Klasse D 2011/12: Haimburg - Bad St. Leonhard
END:VEVENT
BEGIN:VEVENT
UID:20260422T063545UTC-6324uulxO0@85.215.121.98
DTSTAMP:20260422T063545Z
DTSTART;TZID=Europe/Amsterdam:20111105T140000
DTEND;TZID=Europe/Amsterdam:20111105T154500
SUMMARY:K - 2. Klasse D 2011/12: Bad St. Leonhard - SAK Amateure
END:VEVENT
BEGIN:VEVENT
UID:20260422T063545UTC-6331cHJpvz@85.215.121.98
DTSTAMP:20260422T063545Z
DTSTART;TZID=Europe/Amsterdam:20120331T160000
DTEND;TZID=Europe/Amsterdam:20120331T174500
SUMMARY:K - 2. Klasse D 2011/12: Gurnitz - Bad St. Leonhard
END:VEVENT
BEGIN:VEVENT
UID:20260422T063545UTC-6337ciUFZG@85.215.121.98
DTSTAMP:20260422T063545Z
DTSTART;TZID=Europe/Amsterdam:20120407T160000
DTEND;TZID=Europe/Amsterdam:20120407T174500
SUMMARY:K - 2. Klasse D 2011/12: Bad St. Leonhard - Waisenberg
END:VEVENT
BEGIN:VEVENT
UID:20260422T063545UTC-6350PdhXsa@85.215.121.98
DTSTAMP:20260422T063545Z
DTSTART;TZID=Europe/Amsterdam:20120414T160000
DTEND;TZID=Europe/Amsterdam:20120414T174500
SUMMARY:K - 2. Klasse D 2011/12: Ferlach DSG - Bad St. Leonhard
END:VEVENT
BEGIN:VEVENT
UID:20260422T063545UTC-6373drjVec@85.215.121.98
DTSTAMP:20260422T063545Z
DTSTART;TZID=Europe/Amsterdam:20120428T160000
DTEND;TZID=Europe/Amsterdam:20120428T174500
SUMMARY:K - 2. Klasse D 2011/12: Bad St. Leonhard - Eitweg
END:VEVENT
BEGIN:VEVENT
UID:20260422T063545UTC-63791cmPLB@85.215.121.98
DTSTAMP:20260422T063545Z
DTSTART;TZID=Europe/Amsterdam:20120501T163000
DTEND;TZID=Europe/Amsterdam:20120501T181500
SUMMARY:K - 2. Klasse D 2011/12: Preitenegg - Bad St. Leonhard
END:VEVENT
BEGIN:VEVENT
UID:20260422T063545UTC-6385OUHJCI@85.215.121.98
DTSTAMP:20260422T063545Z
DTSTART;TZID=Europe/Amsterdam:20120505T170000
DTEND;TZID=Europe/Amsterdam:20120505T184500
SUMMARY:K - 2. Klasse D 2011/12: Grafenstein - Bad St. Leonhard
END:VEVENT
BEGIN:VEVENT
UID:20260422T063545UTC-6391nlT3Wg@85.215.121.98
DTSTAMP:20260422T063545Z
DTSTART;TZID=Europe/Amsterdam:20120512T170000
DTEND;TZID=Europe/Amsterdam:20120512T184500
SUMMARY:K - 2. Klasse D 2011/12: Bad St. Leonhard - Maria Rojach
END:VEVENT
BEGIN:VEVENT
UID:20260422T063545UTC-6397oDapDs@85.215.121.98
DTSTAMP:20260422T063545Z
DTSTART;TZID=Europe/Amsterdam:20120517T160000
DTEND;TZID=Europe/Amsterdam:20120517T174500
SUMMARY:K - 2. Klasse D 2011/12: Diex - Bad St. Leonhard
END:VEVENT
BEGIN:VEVENT
UID:20260422T063545UTC-6424rMSwPS@85.215.121.98
DTSTAMP:20260422T063545Z
DTSTART;TZID=Europe/Amsterdam:20120519T160000
DTEND;TZID=Europe/Amsterdam:20120519T174500
SUMMARY:K - 2. Klasse D 2011/12: Frantschach - Bad St. Leonhard
END:VEVENT
BEGIN:VEVENT
UID:20260422T063545UTC-6435FruWuK@85.215.121.98
DTSTAMP:20260422T063545Z
DTSTART;TZID=Europe/Amsterdam:20120526T170000
DTEND;TZID=Europe/Amsterdam:20120526T184500
SUMMARY:K - 2. Klasse D 2011/12: Bad St. Leonhard - Tainach
END:VEVENT
BEGIN:VEVENT
UID:20260422T063545UTC-6441ghOIXf@85.215.121.98
DTSTAMP:20260422T063545Z
DTSTART;TZID=Europe/Amsterdam:20120609T170000
DTEND;TZID=Europe/Amsterdam:20120609T184500
SUMMARY:K - 2. Klasse D 2011/12: Bad St. Leonhard - Klopeiner See
END:VEVENT
END:VCALENDAR
