BEGIN:VCALENDAR
VERSION:2.0
PRODID:-////NONSGML kigkonsult.se iCalcreator 2.18//
X-WR-TIMEZONE:Europe/Amsterdam
BEGIN:VTIMEZONE
TZID:Europe/Amsterdam
X-LIC-LOCATION:Europe/Amsterdam
BEGIN:STANDARD
DTSTART:20121028T030000
TZOFFSETFROM:+0200
TZOFFSETTO:+0100
RDATE:20131027T030000
TZNAME:CET
END:STANDARD
BEGIN:DAYLIGHT
DTSTART:20130331T020000
TZOFFSETFROM:+0100
TZOFFSETTO:+0200
RDATE:20140330T020000
TZNAME:CEST
END:DAYLIGHT
END:VTIMEZONE
BEGIN:VEVENT
UID:20260422T083554UTC-9000bRELAJ@85.215.121.98
DTSTAMP:20260422T083554Z
DTSTART;TZID=Europe/Amsterdam:20120728T173000
DTEND;TZID=Europe/Amsterdam:20120728T191500
SUMMARY:K - 2. Klasse C 2012/13: SV Oberes Metnitztal - Techelsberg
END:VEVENT
BEGIN:VEVENT
UID:20260422T083554UTC-90253CcHlC@85.215.121.98
DTSTAMP:20260422T083554Z
DTSTART;TZID=Europe/Amsterdam:20120805T173000
DTEND;TZID=Europe/Amsterdam:20120805T191500
SUMMARY:K - 2. Klasse C 2012/13: Techelsberg - Straßburg
END:VEVENT
BEGIN:VEVENT
UID:20260422T083554UTC-9031J7SJ6H@85.215.121.98
DTSTAMP:20260422T083554Z
DTSTART;TZID=Europe/Amsterdam:20120811T160000
DTEND;TZID=Europe/Amsterdam:20120811T174500
SUMMARY:K - 2. Klasse C 2012/13: Himmelberg - Techelsberg
END:VEVENT
BEGIN:VEVENT
UID:20260422T083554UTC-9039ubpmsE@85.215.121.98
DTSTAMP:20260422T083554Z
DTSTART;TZID=Europe/Amsterdam:20120815T173000
DTEND;TZID=Europe/Amsterdam:20120815T191500
SUMMARY:K - 2. Klasse C 2012/13: Techelsberg - Ferlach DSG
END:VEVENT
BEGIN:VEVENT
UID:20260422T083554UTC-9046hsVwpZ@85.215.121.98
DTSTAMP:20260422T083554Z
DTSTART;TZID=Europe/Amsterdam:20120818T180000
DTEND;TZID=Europe/Amsterdam:20120818T194500
SUMMARY:K - 2. Klasse C 2012/13: Pörtschach - Techelsberg
END:VEVENT
BEGIN:VEVENT
UID:20260422T083554UTC-9055FoXxJF@85.215.121.98
DTSTAMP:20260422T083554Z
DTSTART;TZID=Europe/Amsterdam:20120826T170000
DTEND;TZID=Europe/Amsterdam:20120826T184500
SUMMARY:K - 2. Klasse C 2012/13: Techelsberg - Donau
END:VEVENT
BEGIN:VEVENT
UID:20260422T083554UTC-9065w9DktD@85.215.121.98
DTSTAMP:20260422T083554Z
DTSTART;TZID=Europe/Amsterdam:20120902T163000
DTEND;TZID=Europe/Amsterdam:20120902T181500
SUMMARY:K - 2. Klasse C 2012/13: Oberglan/Feldkirchen B - Techelsberg
END:VEVENT
BEGIN:VEVENT
UID:20260422T083554UTC-9104uHiEnL@85.215.121.98
DTSTAMP:20260422T083554Z
DTSTART;TZID=Europe/Amsterdam:20120909T170000
DTEND;TZID=Europe/Amsterdam:20120909T184500
SUMMARY:K - 2. Klasse C 2012/13: Techelsberg - Weitensfeld
END:VEVENT
BEGIN:VEVENT
UID:20260422T083554UTC-9325I0uHRI@85.215.121.98
DTSTAMP:20260422T083554Z
DTSTART;TZID=Europe/Amsterdam:20120915T160000
DTEND;TZID=Europe/Amsterdam:20120915T174500
SUMMARY:K - 2. Klasse C 2012/13: Keutschach - Techelsberg
END:VEVENT
BEGIN:VEVENT
UID:20260422T083554UTC-93952Epfhm@85.215.121.98
DTSTAMP:20260422T083554Z
DTSTART;TZID=Europe/Amsterdam:20120923T170000
DTEND;TZID=Europe/Amsterdam:20120923T184500
SUMMARY:K - 2. Klasse C 2012/13: Techelsberg - Kappel
END:VEVENT
BEGIN:VEVENT
UID:20260422T083554UTC-9435panbTK@85.215.121.98
DTSTAMP:20260422T083554Z
DTSTART;TZID=Europe/Amsterdam:20120929T160000
DTEND;TZID=Europe/Amsterdam:20120929T174500
SUMMARY:K - 2. Klasse C 2012/13: St. Urban - Techelsberg
END:VEVENT
BEGIN:VEVENT
UID:20260422T083554UTC-9465xLGGVK@85.215.121.98
DTSTAMP:20260422T083554Z
DTSTART;TZID=Europe/Amsterdam:20121007T160000
DTEND;TZID=Europe/Amsterdam:20121007T174500
SUMMARY:K - 2. Klasse C 2012/13: Techelsberg - Viktring
END:VEVENT
BEGIN:VEVENT
UID:20260422T083554UTC-9500jI2kwP@85.215.121.98
DTSTAMP:20260422T083554Z
DTSTART;TZID=Europe/Amsterdam:20121013T160000
DTEND;TZID=Europe/Amsterdam:20121013T174500
SUMMARY:K - 2. Klasse C 2012/13: Krumpendorf - Techelsberg
END:VEVENT
BEGIN:VEVENT
UID:20260422T083554UTC-9506OnUS6X@85.215.121.98
DTSTAMP:20260422T083554Z
DTSTART;TZID=Europe/Amsterdam:20121111T140000
DTEND;TZID=Europe/Amsterdam:20121111T154500
SUMMARY:K - 2. Klasse C 2012/13: Techelsberg - Gurk
END:VEVENT
BEGIN:VEVENT
UID:20260422T083554UTC-9512G8H6hJ@85.215.121.98
DTSTAMP:20260422T083554Z
DTSTART;TZID=Europe/Amsterdam:20130317T160000
DTEND;TZID=Europe/Amsterdam:20130317T174500
SUMMARY:K - 2. Klasse C 2012/13: Techelsberg - SV Oberes Metnitztal
END:VEVENT
BEGIN:VEVENT
UID:20260422T083554UTC-9518zvEx0V@85.215.121.98
DTSTAMP:20260422T083554Z
DTSTART;TZID=Europe/Amsterdam:20130323T150000
DTEND;TZID=Europe/Amsterdam:20130323T164500
SUMMARY:K - 2. Klasse C 2012/13: Straßburg - Techelsberg
END:VEVENT
BEGIN:VEVENT
UID:20260422T083554UTC-95250egS7u@85.215.121.98
DTSTAMP:20260422T083554Z
DTSTART;TZID=Europe/Amsterdam:20130414T160000
DTEND;TZID=Europe/Amsterdam:20130414T174500
SUMMARY:K - 2. Klasse C 2012/13: Techelsberg - Pörtschach
END:VEVENT
BEGIN:VEVENT
UID:20260422T083554UTC-9531pAG8Bv@85.215.121.98
DTSTAMP:20260422T083554Z
DTSTART;TZID=Europe/Amsterdam:20130420T160000
DTEND;TZID=Europe/Amsterdam:20130420T174500
SUMMARY:K - 2. Klasse C 2012/13: Donau - Techelsberg
END:VEVENT
BEGIN:VEVENT
UID:20260422T083554UTC-95390WKAN9@85.215.121.98
DTSTAMP:20260422T083554Z
DTSTART;TZID=Europe/Amsterdam:20130428T163000
DTEND;TZID=Europe/Amsterdam:20130428T181500
SUMMARY:K - 2. Klasse C 2012/13: Techelsberg - Oberglan/Feldkirchen B
END:VEVENT
BEGIN:VEVENT
UID:20260422T083554UTC-9544HHOAsv@85.215.121.98
DTSTAMP:20260422T083554Z
DTSTART;TZID=Europe/Amsterdam:20130501T170000
DTEND;TZID=Europe/Amsterdam:20130501T184500
SUMMARY:K - 2. Klasse C 2012/13: Weitensfeld - Techelsberg
END:VEVENT
BEGIN:VEVENT
UID:20260422T083554UTC-9549UUWFg0@85.215.121.98
DTSTAMP:20260422T083554Z
DTSTART;TZID=Europe/Amsterdam:20130505T163000
DTEND;TZID=Europe/Amsterdam:20130505T181500
SUMMARY:K - 2. Klasse C 2012/13: Techelsberg - Keutschach
END:VEVENT
BEGIN:VEVENT
UID:20260422T083554UTC-9556D6ujsb@85.215.121.98
DTSTAMP:20260422T083554Z
DTSTART;TZID=Europe/Amsterdam:20130509T170000
DTEND;TZID=Europe/Amsterdam:20130509T184500
SUMMARY:K - 2. Klasse C 2012/13: Techelsberg - Himmelberg
END:VEVENT
BEGIN:VEVENT
UID:20260422T083554UTC-9563RthAr8@85.215.121.98
DTSTAMP:20260422T083554Z
DTSTART;TZID=Europe/Amsterdam:20130511T170000
DTEND;TZID=Europe/Amsterdam:20130511T184500
SUMMARY:K - 2. Klasse C 2012/13: Kappel - Techelsberg
END:VEVENT
BEGIN:VEVENT
UID:20260422T083554UTC-9571NnM4hD@85.215.121.98
DTSTAMP:20260422T083554Z
DTSTART;TZID=Europe/Amsterdam:20130518T163000
DTEND;TZID=Europe/Amsterdam:20130518T181500
SUMMARY:K - 2. Klasse C 2012/13: Techelsberg - St. Urban
END:VEVENT
BEGIN:VEVENT
UID:20260422T083554UTC-9576cVfvGb@85.215.121.98
DTSTAMP:20260422T083554Z
DTSTART;TZID=Europe/Amsterdam:20130520T170000
DTEND;TZID=Europe/Amsterdam:20130520T184500
SUMMARY:K - 2. Klasse C 2012/13: Ferlach DSG - Techelsberg
END:VEVENT
BEGIN:VEVENT
UID:20260422T083554UTC-9604KUgnHA@85.215.121.98
DTSTAMP:20260422T083554Z
DTSTART;TZID=Europe/Amsterdam:20130525T173000
DTEND;TZID=Europe/Amsterdam:20130525T191500
SUMMARY:K - 2. Klasse C 2012/13: Viktring - Techelsberg
END:VEVENT
BEGIN:VEVENT
UID:20260422T083554UTC-96102BggOZ@85.215.121.98
DTSTAMP:20260422T083554Z
DTSTART;TZID=Europe/Amsterdam:20130530T163000
DTEND;TZID=Europe/Amsterdam:20130530T181500
SUMMARY:K - 2. Klasse C 2012/13: Techelsberg - Krumpendorf
END:VEVENT
BEGIN:VEVENT
UID:20260422T083554UTC-9616c0CuBB@85.215.121.98
DTSTAMP:20260422T083554Z
DTSTART;TZID=Europe/Amsterdam:20130608T180000
DTEND;TZID=Europe/Amsterdam:20130608T194500
SUMMARY:K - 2. Klasse C 2012/13: Gurk - Techelsberg
END:VEVENT
END:VCALENDAR
