BEGIN:VCALENDAR
VERSION:2.0
PRODID:-////NONSGML kigkonsult.se iCalcreator 2.18//
X-WR-TIMEZONE:Europe/Amsterdam
BEGIN:VTIMEZONE
TZID:Europe/Amsterdam
X-LIC-LOCATION:Europe/Amsterdam
BEGIN:STANDARD
DTSTART:20121028T030000
TZOFFSETFROM:+0200
TZOFFSETTO:+0100
RDATE:20131027T030000
TZNAME:CET
END:STANDARD
BEGIN:DAYLIGHT
DTSTART:20130331T020000
TZOFFSETFROM:+0100
TZOFFSETTO:+0200
RDATE:20140330T020000
TZNAME:CEST
END:DAYLIGHT
END:VTIMEZONE
BEGIN:VEVENT
UID:20260421T175204UTC-0445BbIZET@85.215.121.98
DTSTAMP:20260421T175204Z
DTSTART;TZID=Europe/Amsterdam:20120728T180000
DTEND;TZID=Europe/Amsterdam:20120728T194500
SUMMARY:K - 1. Klasse C 2012/13: Bodensdorf - SC Ulrichsberg
END:VEVENT
BEGIN:VEVENT
UID:20260421T175204UTC-04527Ma7Zg@85.215.121.98
DTSTAMP:20260421T175204Z
DTSTART;TZID=Europe/Amsterdam:20120805T160000
DTEND;TZID=Europe/Amsterdam:20120805T174500
SUMMARY:K - 1. Klasse C 2012/13: Sirnitz - Bodensdorf
END:VEVENT
BEGIN:VEVENT
UID:20260421T175204UTC-0461SW2Hw2@85.215.121.98
DTSTAMP:20260421T175204Z
DTSTART;TZID=Europe/Amsterdam:20120811T173000
DTEND;TZID=Europe/Amsterdam:20120811T191500
SUMMARY:K - 1. Klasse C 2012/13: Bodensdorf - SG FC Poggersdorf
END:VEVENT
BEGIN:VEVENT
UID:20260421T175204UTC-0468L101SP@85.215.121.98
DTSTAMP:20260421T175204Z
DTSTART;TZID=Europe/Amsterdam:20120819T180000
DTEND;TZID=Europe/Amsterdam:20120819T194500
SUMMARY:K - 1. Klasse C 2012/13: Moosburg - Bodensdorf
END:VEVENT
BEGIN:VEVENT
UID:20260421T175204UTC-0478gLtKjP@85.215.121.98
DTSTAMP:20260421T175204Z
DTSTART;TZID=Europe/Amsterdam:20120826T170000
DTEND;TZID=Europe/Amsterdam:20120826T184500
SUMMARY:K - 1. Klasse C 2012/13: Bodensdorf - Wietersdorf
END:VEVENT
BEGIN:VEVENT
UID:20260421T175204UTC-0486WOdbS9@85.215.121.98
DTSTAMP:20260421T175204Z
DTSTART;TZID=Europe/Amsterdam:20120901T170000
DTEND;TZID=Europe/Amsterdam:20120901T184500
SUMMARY:K - 1. Klasse C 2012/13: Guttaring - Bodensdorf
END:VEVENT
BEGIN:VEVENT
UID:20260421T175204UTC-0491J4aMV7@85.215.121.98
DTSTAMP:20260421T175204Z
DTSTART;TZID=Europe/Amsterdam:20120909T150000
DTEND;TZID=Europe/Amsterdam:20120909T164500
SUMMARY:K - 1. Klasse C 2012/13: Bodensdorf - Sörg
END:VEVENT
BEGIN:VEVENT
UID:20260421T175204UTC-0497MOhmE0@85.215.121.98
DTSTAMP:20260421T175204Z
DTSTART;TZID=Europe/Amsterdam:20120915T163000
DTEND;TZID=Europe/Amsterdam:20120915T181500
SUMMARY:K - 1. Klasse C 2012/13: Brückl - Bodensdorf
END:VEVENT
BEGIN:VEVENT
UID:20260421T175204UTC-0504jnZmWz@85.215.121.98
DTSTAMP:20260421T175204Z
DTSTART;TZID=Europe/Amsterdam:20120922T163000
DTEND;TZID=Europe/Amsterdam:20120922T181500
SUMMARY:K - 1. Klasse C 2012/13: Bodensdorf - Launsdorf
END:VEVENT
BEGIN:VEVENT
UID:20260421T175204UTC-0510Vu6V1j@85.215.121.98
DTSTAMP:20260421T175204Z
DTSTART;TZID=Europe/Amsterdam:20120929T160000
DTEND;TZID=Europe/Amsterdam:20120929T174500
SUMMARY:K - 1. Klasse C 2012/13: SV Glanegg - Bodensdorf
END:VEVENT
BEGIN:VEVENT
UID:20260421T175204UTC-05162iJAo6@85.215.121.98
DTSTAMP:20260421T175204Z
DTSTART;TZID=Europe/Amsterdam:20121006T160000
DTEND;TZID=Europe/Amsterdam:20121006T174500
SUMMARY:K - 1. Klasse C 2012/13: Bodensdorf - Eberstein
END:VEVENT
BEGIN:VEVENT
UID:20260421T175204UTC-052263CEUF@85.215.121.98
DTSTAMP:20260421T175204Z
DTSTART;TZID=Europe/Amsterdam:20121013T153000
DTEND;TZID=Europe/Amsterdam:20121013T171500
SUMMARY:K - 1. Klasse C 2012/13: Steuerberg - Bodensdorf
END:VEVENT
BEGIN:VEVENT
UID:20260421T175204UTC-0531cjVWrH@85.215.121.98
DTSTAMP:20260421T175204Z
DTSTART;TZID=Europe/Amsterdam:20121020T153000
DTEND;TZID=Europe/Amsterdam:20121020T171500
SUMMARY:K - 1. Klasse C 2012/13: Bodensdorf - HSV
END:VEVENT
BEGIN:VEVENT
UID:20260421T175204UTC-0540OxXotU@85.215.121.98
DTSTAMP:20260421T175204Z
DTSTART;TZID=Europe/Amsterdam:20121028T150000
DTEND;TZID=Europe/Amsterdam:20121028T164500
SUMMARY:K - 1. Klasse C 2012/13: SC Ulrichsberg - Bodensdorf
END:VEVENT
BEGIN:VEVENT
UID:20260421T175204UTC-0545Ag7JHz@85.215.121.98
DTSTAMP:20260421T175204Z
DTSTART;TZID=Europe/Amsterdam:20121103T140000
DTEND;TZID=Europe/Amsterdam:20121103T154500
SUMMARY:K - 1. Klasse C 2012/13: Bodensdorf - Sirnitz
END:VEVENT
BEGIN:VEVENT
UID:20260421T175204UTC-0551X3mW8K@85.215.121.98
DTSTAMP:20260421T175204Z
DTSTART;TZID=Europe/Amsterdam:20130331T150000
DTEND;TZID=Europe/Amsterdam:20130331T164500
SUMMARY:K - 1. Klasse C 2012/13: SG FC Poggersdorf - Bodensdorf
END:VEVENT
BEGIN:VEVENT
UID:20260421T175204UTC-0557WFveKR@85.215.121.98
DTSTAMP:20260421T175204Z
DTSTART;TZID=Europe/Amsterdam:20130413T153000
DTEND;TZID=Europe/Amsterdam:20130413T171500
SUMMARY:K - 1. Klasse C 2012/13: Wietersdorf - Bodensdorf
END:VEVENT
BEGIN:VEVENT
UID:20260421T175204UTC-0563e0e6KU@85.215.121.98
DTSTAMP:20260421T175204Z
DTSTART;TZID=Europe/Amsterdam:20130420T160000
DTEND;TZID=Europe/Amsterdam:20130420T174500
SUMMARY:K - 1. Klasse C 2012/13: Bodensdorf - Guttaring
END:VEVENT
BEGIN:VEVENT
UID:20260421T175204UTC-0569we1A8c@85.215.121.98
DTSTAMP:20260421T175204Z
DTSTART;TZID=Europe/Amsterdam:20130427T160000
DTEND;TZID=Europe/Amsterdam:20130427T174500
SUMMARY:K - 1. Klasse C 2012/13: Sörg - Bodensdorf
END:VEVENT
BEGIN:VEVENT
UID:20260421T175204UTC-06114ITWZr@85.215.121.98
DTSTAMP:20260421T175204Z
DTSTART;TZID=Europe/Amsterdam:20130501T160000
DTEND;TZID=Europe/Amsterdam:20130501T174500
SUMMARY:K - 1. Klasse C 2012/13: Bodensdorf - Moosburg
END:VEVENT
BEGIN:VEVENT
UID:20260421T175204UTC-0617XUPV7P@85.215.121.98
DTSTAMP:20260421T175204Z
DTSTART;TZID=Europe/Amsterdam:20130504T163000
DTEND;TZID=Europe/Amsterdam:20130504T181500
SUMMARY:K - 1. Klasse C 2012/13: Bodensdorf - Brückl
END:VEVENT
BEGIN:VEVENT
UID:20260421T175204UTC-0623m5ccg3@85.215.121.98
DTSTAMP:20260421T175204Z
DTSTART;TZID=Europe/Amsterdam:20130512T170000
DTEND;TZID=Europe/Amsterdam:20130512T184500
SUMMARY:K - 1. Klasse C 2012/13: Launsdorf - Bodensdorf
END:VEVENT
BEGIN:VEVENT
UID:20260421T175204UTC-06291lFRjM@85.215.121.98
DTSTAMP:20260421T175204Z
DTSTART;TZID=Europe/Amsterdam:20130525T170000
DTEND;TZID=Europe/Amsterdam:20130525T184500
SUMMARY:K - 1. Klasse C 2012/13: Eberstein - Bodensdorf
END:VEVENT
BEGIN:VEVENT
UID:20260421T175204UTC-0635lD0wA6@85.215.121.98
DTSTAMP:20260421T175204Z
DTSTART;TZID=Europe/Amsterdam:20130601T170000
DTEND;TZID=Europe/Amsterdam:20130601T184500
SUMMARY:K - 1. Klasse C 2012/13: Bodensdorf - Steuerberg
END:VEVENT
BEGIN:VEVENT
UID:20260421T175204UTC-0661vTWcja@85.215.121.98
DTSTAMP:20260421T175204Z
DTSTART;TZID=Europe/Amsterdam:20130605T183000
DTEND;TZID=Europe/Amsterdam:20130605T201500
SUMMARY:K - 1. Klasse C 2012/13: Bodensdorf - SV Glanegg
END:VEVENT
BEGIN:VEVENT
UID:20260421T175204UTC-0667fzFw6k@85.215.121.98
DTSTAMP:20260421T175204Z
DTSTART;TZID=Europe/Amsterdam:20130609T180000
DTEND;TZID=Europe/Amsterdam:20130609T194500
SUMMARY:K - 1. Klasse C 2012/13: HSV - Bodensdorf
END:VEVENT
END:VCALENDAR
