BEGIN:VCALENDAR
VERSION:2.0
PRODID:-////NONSGML kigkonsult.se iCalcreator 2.18//
X-WR-TIMEZONE:Europe/Amsterdam
BEGIN:VTIMEZONE
TZID:Europe/Amsterdam
X-LIC-LOCATION:Europe/Amsterdam
BEGIN:STANDARD
DTSTART:20081026T030000
TZOFFSETFROM:+0200
TZOFFSETTO:+0100
RDATE:20091025T030000
TZNAME:CET
END:STANDARD
BEGIN:DAYLIGHT
DTSTART:20090329T020000
TZOFFSETFROM:+0100
TZOFFSETTO:+0200
RDATE:20100328T020000
TZNAME:CEST
END:DAYLIGHT
END:VTIMEZONE
BEGIN:VEVENT
UID:20260419T151407UTC-9169gCnvuW@85.215.121.98
DTSTAMP:20260419T151407Z
DTSTART;TZID=Europe/Amsterdam:20080802T173000
DTEND;TZID=Europe/Amsterdam:20080802T191500
SUMMARY:K - 2. Klasse B 2008/09: Töplitsch - Malta
END:VEVENT
BEGIN:VEVENT
UID:20260419T151407UTC-9195cNSruO@85.215.121.98
DTSTAMP:20260419T151407Z
DTSTART;TZID=Europe/Amsterdam:20080810T180000
DTEND;TZID=Europe/Amsterdam:20080810T194500
SUMMARY:K - 2. Klasse B 2008/09: Egg - Töplitsch
END:VEVENT
BEGIN:VEVENT
UID:20260419T151407UTC-9201VOaHaL@85.215.121.98
DTSTAMP:20260419T151407Z
DTSTART;TZID=Europe/Amsterdam:20080817T173000
DTEND;TZID=Europe/Amsterdam:20080817T191500
SUMMARY:K - 2. Klasse B 2008/09: Baldramsdorf - Töplitsch
END:VEVENT
BEGIN:VEVENT
UID:20260419T151407UTC-9207sBGJvD@85.215.121.98
DTSTAMP:20260419T151407Z
DTSTART;TZID=Europe/Amsterdam:20080823T173000
DTEND;TZID=Europe/Amsterdam:20080823T191500
SUMMARY:K - 2. Klasse B 2008/09: Töplitsch - Kleinkirchheim
END:VEVENT
BEGIN:VEVENT
UID:20260419T151407UTC-9235bPa2dE@85.215.121.98
DTSTAMP:20260419T151407Z
DTSTART;TZID=Europe/Amsterdam:20080829T170000
DTEND;TZID=Europe/Amsterdam:20080829T184500
SUMMARY:K - 2. Klasse B 2008/09: Töplitsch - Arriach
END:VEVENT
BEGIN:VEVENT
UID:20260419T151407UTC-9243zExNmX@85.215.121.98
DTSTAMP:20260419T151407Z
DTSTART;TZID=Europe/Amsterdam:20080831T173000
DTEND;TZID=Europe/Amsterdam:20080831T191500
SUMMARY:K - 2. Klasse B 2008/09: St. Jakob/Ros. - Töplitsch
END:VEVENT
BEGIN:VEVENT
UID:20260419T151407UTC-9250muUm3u@85.215.121.98
DTSTAMP:20260419T151407Z
DTSTART;TZID=Europe/Amsterdam:20080907T110000
DTEND;TZID=Europe/Amsterdam:20080907T124500
SUMMARY:K - 2. Klasse B 2008/09: Töplitsch - Bad Bleiberg
END:VEVENT
BEGIN:VEVENT
UID:20260419T151407UTC-9256tbTjhw@85.215.121.98
DTSTAMP:20260419T151407Z
DTSTART;TZID=Europe/Amsterdam:20080913T160000
DTEND;TZID=Europe/Amsterdam:20080913T174500
SUMMARY:K - 2. Klasse B 2008/09: Ferndorf - Töplitsch
END:VEVENT
BEGIN:VEVENT
UID:20260419T151407UTC-9267f20pg9@85.215.121.98
DTSTAMP:20260419T151407Z
DTSTART;TZID=Europe/Amsterdam:20080920T163000
DTEND;TZID=Europe/Amsterdam:20080920T181500
SUMMARY:K - 2. Klasse B 2008/09: Töplitsch - Atus Velden
END:VEVENT
BEGIN:VEVENT
UID:20260419T151407UTC-93452l6zUR@85.215.121.98
DTSTAMP:20260419T151407Z
DTSTART;TZID=Europe/Amsterdam:20080927T163000
DTEND;TZID=Europe/Amsterdam:20080927T181500
SUMMARY:K - 2. Klasse B 2008/09: Töplitsch - Fresach
END:VEVENT
BEGIN:VEVENT
UID:20260419T151407UTC-9374jJ8ROb@85.215.121.98
DTSTAMP:20260419T151407Z
DTSTART;TZID=Europe/Amsterdam:20081004T160000
DTEND;TZID=Europe/Amsterdam:20081004T174500
SUMMARY:K - 2. Klasse B 2008/09: Schiefling - Töplitsch
END:VEVENT
BEGIN:VEVENT
UID:20260419T151407UTC-9380JaxP8l@85.215.121.98
DTSTAMP:20260419T151407Z
DTSTART;TZID=Europe/Amsterdam:20081011T160000
DTEND;TZID=Europe/Amsterdam:20081011T174500
SUMMARY:K - 2. Klasse B 2008/09: Töplitsch - St. Egyden
END:VEVENT
BEGIN:VEVENT
UID:20260419T151407UTC-9386d6bZCI@85.215.121.98
DTSTAMP:20260419T151407Z
DTSTART;TZID=Europe/Amsterdam:20081025T153000
DTEND;TZID=Europe/Amsterdam:20081025T171500
SUMMARY:K - 2. Klasse B 2008/09: Töplitsch - Afritz
END:VEVENT
BEGIN:VEVENT
UID:20260419T151407UTC-9392jw9aRJ@85.215.121.98
DTSTAMP:20260419T151407Z
DTSTART;TZID=Europe/Amsterdam:20081102T150000
DTEND;TZID=Europe/Amsterdam:20081102T164500
SUMMARY:K - 2. Klasse B 2008/09: Seebach - Töplitsch
END:VEVENT
BEGIN:VEVENT
UID:20260419T151407UTC-9399Clp3E3@85.215.121.98
DTSTAMP:20260419T151407Z
DTSTART;TZID=Europe/Amsterdam:20081108T143000
DTEND;TZID=Europe/Amsterdam:20081108T161500
SUMMARY:K - 2. Klasse B 2008/09: Malta - Töplitsch
END:VEVENT
BEGIN:VEVENT
UID:20260419T151407UTC-9406wNeDP7@85.215.121.98
DTSTAMP:20260419T151407Z
DTSTART;TZID=Europe/Amsterdam:20090321T153000
DTEND;TZID=Europe/Amsterdam:20090321T171500
SUMMARY:K - 2. Klasse B 2008/09: Töplitsch - Egg
END:VEVENT
BEGIN:VEVENT
UID:20260419T151407UTC-9424MV37Jb@85.215.121.98
DTSTAMP:20260419T151407Z
DTSTART;TZID=Europe/Amsterdam:20090329T150000
DTEND;TZID=Europe/Amsterdam:20090329T164500
SUMMARY:K - 2. Klasse B 2008/09: Arriach - Töplitsch
END:VEVENT
BEGIN:VEVENT
UID:20260419T151407UTC-9430FFmCt9@85.215.121.98
DTSTAMP:20260419T151407Z
DTSTART;TZID=Europe/Amsterdam:20090404T153000
DTEND;TZID=Europe/Amsterdam:20090404T171500
SUMMARY:K - 2. Klasse B 2008/09: Töplitsch - Baldramsdorf
END:VEVENT
BEGIN:VEVENT
UID:20260419T151407UTC-9436VJmW8E@85.215.121.98
DTSTAMP:20260419T151407Z
DTSTART;TZID=Europe/Amsterdam:20090411T170000
DTEND;TZID=Europe/Amsterdam:20090411T184500
SUMMARY:K - 2. Klasse B 2008/09: Kleinkirchheim - Töplitsch
END:VEVENT
BEGIN:VEVENT
UID:20260419T151407UTC-9464vbXu45@85.215.121.98
DTSTAMP:20260419T151407Z
DTSTART;TZID=Europe/Amsterdam:20090418T160000
DTEND;TZID=Europe/Amsterdam:20090418T174500
SUMMARY:K - 2. Klasse B 2008/09: Töplitsch - St. Jakob/Ros.
END:VEVENT
BEGIN:VEVENT
UID:20260419T151407UTC-9470LNNu5i@85.215.121.98
DTSTAMP:20260419T151407Z
DTSTART;TZID=Europe/Amsterdam:20090425T170000
DTEND;TZID=Europe/Amsterdam:20090425T184500
SUMMARY:K - 2. Klasse B 2008/09: Bad Bleiberg - Töplitsch
END:VEVENT
BEGIN:VEVENT
UID:20260419T151407UTC-94770Lv7ih@85.215.121.98
DTSTAMP:20260419T151407Z
DTSTART;TZID=Europe/Amsterdam:20090502T163000
DTEND;TZID=Europe/Amsterdam:20090502T181500
SUMMARY:K - 2. Klasse B 2008/09: Töplitsch - Ferndorf
END:VEVENT
BEGIN:VEVENT
UID:20260419T151407UTC-9488mBJEu2@85.215.121.98
DTSTAMP:20260419T151407Z
DTSTART;TZID=Europe/Amsterdam:20090510T110000
DTEND;TZID=Europe/Amsterdam:20090510T124500
SUMMARY:K - 2. Klasse B 2008/09: Atus Velden - Töplitsch
END:VEVENT
BEGIN:VEVENT
UID:20260419T151407UTC-9493ZwgPg8@85.215.121.98
DTSTAMP:20260419T151407Z
DTSTART;TZID=Europe/Amsterdam:20090517T163000
DTEND;TZID=Europe/Amsterdam:20090517T181500
SUMMARY:K - 2. Klasse B 2008/09: Fresach - Töplitsch
END:VEVENT
BEGIN:VEVENT
UID:20260419T151407UTC-9500NNwOxO@85.215.121.98
DTSTAMP:20260419T151407Z
DTSTART;TZID=Europe/Amsterdam:20090521T170000
DTEND;TZID=Europe/Amsterdam:20090521T184500
SUMMARY:K - 2. Klasse B 2008/09: Töplitsch - Schiefling
END:VEVENT
BEGIN:VEVENT
UID:20260419T151407UTC-9534zeUznF@85.215.121.98
DTSTAMP:20260419T151407Z
DTSTART;TZID=Europe/Amsterdam:20090524T180000
DTEND;TZID=Europe/Amsterdam:20090524T194500
SUMMARY:K - 2. Klasse B 2008/09: St. Egyden - Töplitsch
END:VEVENT
BEGIN:VEVENT
UID:20260419T151407UTC-954028pdfh@85.215.121.98
DTSTAMP:20260419T151407Z
DTSTART;TZID=Europe/Amsterdam:20090606T173000
DTEND;TZID=Europe/Amsterdam:20090606T191500
SUMMARY:K - 2. Klasse B 2008/09: Afritz - Töplitsch
END:VEVENT
BEGIN:VEVENT
UID:20260419T151407UTC-9546irSvVi@85.215.121.98
DTSTAMP:20260419T151407Z
DTSTART;TZID=Europe/Amsterdam:20090613T170000
DTEND;TZID=Europe/Amsterdam:20090613T184500
SUMMARY:K - 2. Klasse B 2008/09: Töplitsch - Seebach
END:VEVENT
END:VCALENDAR
