BEGIN:VCALENDAR
VERSION:2.0
PRODID:-////NONSGML kigkonsult.se iCalcreator 2.18//
X-WR-TIMEZONE:Europe/Amsterdam
BEGIN:VTIMEZONE
TZID:Europe/Amsterdam
X-LIC-LOCATION:Europe/Amsterdam
BEGIN:STANDARD
DTSTART:20121028T030000
TZOFFSETFROM:+0200
TZOFFSETTO:+0100
RDATE:20131027T030000
TZNAME:CET
END:STANDARD
BEGIN:DAYLIGHT
DTSTART:20130331T020000
TZOFFSETFROM:+0100
TZOFFSETTO:+0200
RDATE:20140330T020000
TZNAME:CEST
END:DAYLIGHT
END:VTIMEZONE
BEGIN:VEVENT
UID:20260426T012425UTC-7020JNAHmX@85.215.121.98
DTSTAMP:20260426T012425Z
DTSTART;TZID=Europe/Amsterdam:20120729T173000
DTEND;TZID=Europe/Amsterdam:20120729T191500
SUMMARY:K - 2. Klasse B 2012/13: Arriach - Bad Bleiberg
END:VEVENT
BEGIN:VEVENT
UID:20260426T012425UTC-7027TESBXs@85.215.121.98
DTSTAMP:20260426T012425Z
DTSTART;TZID=Europe/Amsterdam:20120804T173000
DTEND;TZID=Europe/Amsterdam:20120804T191500
SUMMARY:K - 2. Klasse B 2012/13: Arriach - Fresach
END:VEVENT
BEGIN:VEVENT
UID:20260426T012425UTC-7033R4uGTJ@85.215.121.98
DTSTAMP:20260426T012425Z
DTSTART;TZID=Europe/Amsterdam:20120811T170000
DTEND;TZID=Europe/Amsterdam:20120811T184500
SUMMARY:K - 2. Klasse B 2012/13: Töplitsch - Arriach
END:VEVENT
BEGIN:VEVENT
UID:20260426T012425UTC-7038Cfim1b@85.215.121.98
DTSTAMP:20260426T012425Z
DTSTART;TZID=Europe/Amsterdam:20120815T170000
DTEND;TZID=Europe/Amsterdam:20120815T184500
SUMMARY:K - 2. Klasse B 2012/13: Arriach - St. Egyden
END:VEVENT
BEGIN:VEVENT
UID:20260426T012425UTC-7044SPvhXp@85.215.121.98
DTSTAMP:20260426T012425Z
DTSTART;TZID=Europe/Amsterdam:20120818T170000
DTEND;TZID=Europe/Amsterdam:20120818T184500
SUMMARY:K - 2. Klasse B 2012/13: Malta - Arriach
END:VEVENT
BEGIN:VEVENT
UID:20260426T012425UTC-70497lJO92@85.215.121.98
DTSTAMP:20260426T012425Z
DTSTART;TZID=Europe/Amsterdam:20120826T163000
DTEND;TZID=Europe/Amsterdam:20120826T181500
SUMMARY:K - 2. Klasse B 2012/13: Arriach - SG Ferndorf/Spittal
END:VEVENT
BEGIN:VEVENT
UID:20260426T012425UTC-7056HMlIfB@85.215.121.98
DTSTAMP:20260426T012425Z
DTSTART;TZID=Europe/Amsterdam:20120909T160000
DTEND;TZID=Europe/Amsterdam:20120909T174500
SUMMARY:K - 2. Klasse B 2012/13: Arriach - Stockenboi
END:VEVENT
BEGIN:VEVENT
UID:20260426T012425UTC-70616ou4wD@85.215.121.98
DTSTAMP:20260426T012425Z
DTSTART;TZID=Europe/Amsterdam:20120916T103000
DTEND;TZID=Europe/Amsterdam:20120916T121500
SUMMARY:K - 2. Klasse B 2012/13: Maria Gail - Arriach
END:VEVENT
BEGIN:VEVENT
UID:20260426T012425UTC-7066lWoNNc@85.215.121.98
DTSTAMP:20260426T012425Z
DTSTART;TZID=Europe/Amsterdam:20120922T160000
DTEND;TZID=Europe/Amsterdam:20120922T174500
SUMMARY:K - 2. Klasse B 2012/13: Arriach - Faakersee
END:VEVENT
BEGIN:VEVENT
UID:20260426T012425UTC-7070a8kvKv@85.215.121.98
DTSTAMP:20260426T012425Z
DTSTART;TZID=Europe/Amsterdam:20120930T160000
DTEND;TZID=Europe/Amsterdam:20120930T174500
SUMMARY:K - 2. Klasse B 2012/13: Afritz - Arriach
END:VEVENT
BEGIN:VEVENT
UID:20260426T012425UTC-707689zpEX@85.215.121.98
DTSTAMP:20260426T012425Z
DTSTART;TZID=Europe/Amsterdam:20121002T190000
DTEND;TZID=Europe/Amsterdam:20121002T204500
SUMMARY:K - 2. Klasse B 2012/13: Drautal - Arriach
END:VEVENT
BEGIN:VEVENT
UID:20260426T012425UTC-7082dL4PtG@85.215.121.98
DTSTAMP:20260426T012425Z
DTSTART;TZID=Europe/Amsterdam:20121007T153000
DTEND;TZID=Europe/Amsterdam:20121007T171500
SUMMARY:K - 2. Klasse B 2012/13: Arriach - Baldramsdorf
END:VEVENT
BEGIN:VEVENT
UID:20260426T012425UTC-7087dGbfJo@85.215.121.98
DTSTAMP:20260426T012425Z
DTSTART;TZID=Europe/Amsterdam:20121014T153000
DTEND;TZID=Europe/Amsterdam:20121014T171500
SUMMARY:K - 2. Klasse B 2012/13: Rennweg - Arriach
END:VEVENT
BEGIN:VEVENT
UID:20260426T012425UTC-7092BMU964@85.215.121.98
DTSTAMP:20260426T012425Z
DTSTART;TZID=Europe/Amsterdam:20121020T150000
DTEND;TZID=Europe/Amsterdam:20121020T164500
SUMMARY:K - 2. Klasse B 2012/13: Arriach - Landskron
END:VEVENT
BEGIN:VEVENT
UID:20260426T012425UTC-7097fma9Uo@85.215.121.98
DTSTAMP:20260426T012425Z
DTSTART;TZID=Europe/Amsterdam:20121027T150000
DTEND;TZID=Europe/Amsterdam:20121027T164500
SUMMARY:K - 2. Klasse B 2012/13: Obermillstatt - Arriach
END:VEVENT
BEGIN:VEVENT
UID:20260426T012425UTC-7102DUb10G@85.215.121.98
DTSTAMP:20260426T012425Z
DTSTART;TZID=Europe/Amsterdam:20130406T150000
DTEND;TZID=Europe/Amsterdam:20130406T164500
SUMMARY:K - 2. Klasse B 2012/13: St. Egyden - Arriach
END:VEVENT
BEGIN:VEVENT
UID:20260426T012425UTC-7107LvPiol@85.215.121.98
DTSTAMP:20260426T012425Z
DTSTART;TZID=Europe/Amsterdam:20130420T153000
DTEND;TZID=Europe/Amsterdam:20130420T171500
SUMMARY:K - 2. Klasse B 2012/13: SG Ferndorf/Spittal - Arriach
END:VEVENT
BEGIN:VEVENT
UID:20260426T012425UTC-7112JAPUfP@85.215.121.98
DTSTAMP:20260426T012425Z
DTSTART;TZID=Europe/Amsterdam:20130426T174500
DTEND;TZID=Europe/Amsterdam:20130426T193000
SUMMARY:K - 2. Klasse B 2012/13: Fresach - Arriach
END:VEVENT
BEGIN:VEVENT
UID:20260426T012425UTC-711818Aktc@85.215.121.98
DTSTAMP:20260426T012425Z
DTSTART;TZID=Europe/Amsterdam:20130428T160000
DTEND;TZID=Europe/Amsterdam:20130428T174500
SUMMARY:K - 2. Klasse B 2012/13: Arriach - Drautal
END:VEVENT
BEGIN:VEVENT
UID:20260426T012425UTC-7123e4VnaP@85.215.121.98
DTSTAMP:20260426T012425Z
DTSTART;TZID=Europe/Amsterdam:20130501T170000
DTEND;TZID=Europe/Amsterdam:20130501T184500
SUMMARY:K - 2. Klasse B 2012/13: Stockenboi - Arriach
END:VEVENT
BEGIN:VEVENT
UID:20260426T012425UTC-7128IASI7X@85.215.121.98
DTSTAMP:20260426T012425Z
DTSTART;TZID=Europe/Amsterdam:20130505T163000
DTEND;TZID=Europe/Amsterdam:20130505T181500
SUMMARY:K - 2. Klasse B 2012/13: Arriach - Maria Gail
END:VEVENT
BEGIN:VEVENT
UID:20260426T012425UTC-7133pgRFau@85.215.121.98
DTSTAMP:20260426T012425Z
DTSTART;TZID=Europe/Amsterdam:20130509T160000
DTEND;TZID=Europe/Amsterdam:20130509T174500
SUMMARY:K - 2. Klasse B 2012/13: Bad Bleiberg - Arriach
END:VEVENT
BEGIN:VEVENT
UID:20260426T012425UTC-71385aPHPv@85.215.121.98
DTSTAMP:20260426T012425Z
DTSTART;TZID=Europe/Amsterdam:20130512T160000
DTEND;TZID=Europe/Amsterdam:20130512T174500
SUMMARY:K - 2. Klasse B 2012/13: Faakersee - Arriach
END:VEVENT
BEGIN:VEVENT
UID:20260426T012425UTC-71445meUKF@85.215.121.98
DTSTAMP:20260426T012425Z
DTSTART;TZID=Europe/Amsterdam:20130518T170000
DTEND;TZID=Europe/Amsterdam:20130518T184500
SUMMARY:K - 2. Klasse B 2012/13: Arriach - Afritz
END:VEVENT
BEGIN:VEVENT
UID:20260426T012425UTC-7149Bgn9uE@85.215.121.98
DTSTAMP:20260426T012425Z
DTSTART;TZID=Europe/Amsterdam:20130520T170000
DTEND;TZID=Europe/Amsterdam:20130520T184500
SUMMARY:K - 2. Klasse B 2012/13: Arriach - Töplitsch
END:VEVENT
BEGIN:VEVENT
UID:20260426T012425UTC-7154RxRJrz@85.215.121.98
DTSTAMP:20260426T012425Z
DTSTART;TZID=Europe/Amsterdam:20130524T180000
DTEND;TZID=Europe/Amsterdam:20130524T194500
SUMMARY:K - 2. Klasse B 2012/13: Arriach - Malta
END:VEVENT
BEGIN:VEVENT
UID:20260426T012425UTC-71606o7Jgo@85.215.121.98
DTSTAMP:20260426T012425Z
DTSTART;TZID=Europe/Amsterdam:20130526T103000
DTEND;TZID=Europe/Amsterdam:20130526T121500
SUMMARY:K - 2. Klasse B 2012/13: Baldramsdorf - Arriach
END:VEVENT
BEGIN:VEVENT
UID:20260426T012425UTC-71657suouG@85.215.121.98
DTSTAMP:20260426T012425Z
DTSTART;TZID=Europe/Amsterdam:20130601T180000
DTEND;TZID=Europe/Amsterdam:20130601T194500
SUMMARY:K - 2. Klasse B 2012/13: Landskron - Arriach
END:VEVENT
BEGIN:VEVENT
UID:20260426T012425UTC-7170HU4tLv@85.215.121.98
DTSTAMP:20260426T012425Z
DTSTART;TZID=Europe/Amsterdam:20130607T180000
DTEND;TZID=Europe/Amsterdam:20130607T194500
SUMMARY:K - 2. Klasse B 2012/13: Arriach - Rennweg
END:VEVENT
BEGIN:VEVENT
UID:20260426T012425UTC-7175zJTeTJ@85.215.121.98
DTSTAMP:20260426T012425Z
DTSTART;TZID=Europe/Amsterdam:20130609T180000
DTEND;TZID=Europe/Amsterdam:20130609T194500
SUMMARY:K - 2. Klasse B 2012/13: Arriach - Obermillstatt
END:VEVENT
END:VCALENDAR
