BEGIN:VCALENDAR
VERSION:2.0
PRODID:-////NONSGML kigkonsult.se iCalcreator 2.18//
X-WR-TIMEZONE:Europe/Amsterdam
BEGIN:VTIMEZONE
TZID:Europe/Amsterdam
X-LIC-LOCATION:Europe/Amsterdam
BEGIN:STANDARD
DTSTART:20181028T030000
TZOFFSETFROM:+0200
TZOFFSETTO:+0100
RDATE:20191027T030000
TZNAME:CET
END:STANDARD
BEGIN:DAYLIGHT
DTSTART:20190331T020000
TZOFFSETFROM:+0100
TZOFFSETTO:+0200
RDATE:20200329T020000
TZNAME:CEST
END:DAYLIGHT
END:VTIMEZONE
BEGIN:VEVENT
UID:20260422T075016UTC-4472mLFps5@85.215.121.98
DTSTAMP:20260422T075016Z
DTSTART;TZID=Europe/Amsterdam:20180819T183000
DTEND;TZID=Europe/Amsterdam:20180819T201500
SUMMARY:N - 2. Klasse Triestingtal 2018/19: Alland - Berndorf
END:VEVENT
BEGIN:VEVENT
UID:20260422T075016UTC-4601WRvgVE@85.215.121.98
DTSTAMP:20260422T075016Z
DTSTART;TZID=Europe/Amsterdam:20180824T193000
DTEND;TZID=Europe/Amsterdam:20180824T211500
SUMMARY:N - 2. Klasse Triestingtal 2018/19: Alland - Schönau
END:VEVENT
BEGIN:VEVENT
UID:20260422T075016UTC-4609t7XafX@85.215.121.98
DTSTAMP:20260422T075016Z
DTSTART;TZID=Europe/Amsterdam:20180831T193000
DTEND;TZID=Europe/Amsterdam:20180831T211500
SUMMARY:N - 2. Klasse Triestingtal 2018/19: Alland - Sooss
END:VEVENT
BEGIN:VEVENT
UID:20260422T075016UTC-4616ge7DIe@85.215.121.98
DTSTAMP:20260422T075016Z
DTSTART;TZID=Europe/Amsterdam:20180907T193000
DTEND;TZID=Europe/Amsterdam:20180907T211500
SUMMARY:N - 2. Klasse Triestingtal 2018/19: Teesdorf - Alland
END:VEVENT
BEGIN:VEVENT
UID:20260422T075016UTC-4622TVjmaM@85.215.121.98
DTSTAMP:20260422T075016Z
DTSTART;TZID=Europe/Amsterdam:20180914T193000
DTEND;TZID=Europe/Amsterdam:20180914T211500
SUMMARY:N - 2. Klasse Triestingtal 2018/19: Alland - Oberwaltersdorf
END:VEVENT
BEGIN:VEVENT
UID:20260422T075016UTC-4628HDht1d@85.215.121.98
DTSTAMP:20260422T075016Z
DTSTART;TZID=Europe/Amsterdam:20180923T160000
DTEND;TZID=Europe/Amsterdam:20180923T174500
SUMMARY:N - 2. Klasse Triestingtal 2018/19: Günselsdorf - Alland
END:VEVENT
BEGIN:VEVENT
UID:20260422T075016UTC-4635W47vPZ@85.215.121.98
DTSTAMP:20260422T075016Z
DTSTART;TZID=Europe/Amsterdam:20180928T193000
DTEND;TZID=Europe/Amsterdam:20180928T211500
SUMMARY:N - 2. Klasse Triestingtal 2018/19: Alland - Klausen-Leopoldsdorf
END:VEVENT
BEGIN:VEVENT
UID:20260422T075016UTC-4642i3Sm7f@85.215.121.98
DTSTAMP:20260422T075016Z
DTSTART;TZID=Europe/Amsterdam:20181006T153000
DTEND;TZID=Europe/Amsterdam:20181006T171500
SUMMARY:N - 2. Klasse Triestingtal 2018/19: Enzesfeld/H. - Alland
END:VEVENT
BEGIN:VEVENT
UID:20260422T075016UTC-4648esKDKa@85.215.121.98
DTSTAMP:20260422T075016Z
DTSTART;TZID=Europe/Amsterdam:20181014T163000
DTEND;TZID=Europe/Amsterdam:20181014T181500
SUMMARY:N - 2. Klasse Triestingtal 2018/19: Alland - Blumau
END:VEVENT
BEGIN:VEVENT
UID:20260422T075016UTC-4654lg01nj@85.215.121.98
DTSTAMP:20260422T075016Z
DTSTART;TZID=Europe/Amsterdam:20181019T190000
DTEND;TZID=Europe/Amsterdam:20181019T204500
SUMMARY:N - 2. Klasse Triestingtal 2018/19: Pottenstein - Alland
END:VEVENT
BEGIN:VEVENT
UID:20260422T075016UTC-4659uj0BxO@85.215.121.98
DTSTAMP:20260422T075016Z
DTSTART;TZID=Europe/Amsterdam:20181026T140000
DTEND;TZID=Europe/Amsterdam:20181026T154500
SUMMARY:N - 2. Klasse Triestingtal 2018/19: Alland - Traiskirchen KM II
END:VEVENT
BEGIN:VEVENT
UID:20260422T075016UTC-4666zxlP6Z@85.215.121.98
DTSTAMP:20260422T075016Z
DTSTART;TZID=Europe/Amsterdam:20181101T170000
DTEND;TZID=Europe/Amsterdam:20181101T184500
SUMMARY:N - 2. Klasse Triestingtal 2018/19: ASV Baden - Alland
END:VEVENT
BEGIN:VEVENT
UID:20260422T075016UTC-4672AAIn3s@85.215.121.98
DTSTAMP:20260422T075016Z
DTSTART;TZID=Europe/Amsterdam:20190323T153000
DTEND;TZID=Europe/Amsterdam:20190323T171500
SUMMARY:N - 2. Klasse Triestingtal 2018/19: Berndorf - Alland
END:VEVENT
BEGIN:VEVENT
UID:20260422T075016UTC-4678uhwujl@85.215.121.98
DTSTAMP:20260422T075016Z
DTSTART;TZID=Europe/Amsterdam:20190330T153000
DTEND;TZID=Europe/Amsterdam:20190330T171500
SUMMARY:N - 2. Klasse Triestingtal 2018/19: Schönau - Alland
END:VEVENT
BEGIN:VEVENT
UID:20260422T075016UTC-4685NUsSKG@85.215.121.98
DTSTAMP:20260422T075016Z
DTSTART;TZID=Europe/Amsterdam:20190406T163000
DTEND;TZID=Europe/Amsterdam:20190406T181500
SUMMARY:N - 2. Klasse Triestingtal 2018/19: Sooss - Alland
END:VEVENT
BEGIN:VEVENT
UID:20260422T075016UTC-4692CUgPnC@85.215.121.98
DTSTAMP:20260422T075016Z
DTSTART;TZID=Europe/Amsterdam:20190414T163000
DTEND;TZID=Europe/Amsterdam:20190414T181500
SUMMARY:N - 2. Klasse Triestingtal 2018/19: Alland - Teesdorf
END:VEVENT
BEGIN:VEVENT
UID:20260422T075016UTC-4697vepudW@85.215.121.98
DTSTAMP:20260422T075016Z
DTSTART;TZID=Europe/Amsterdam:20190419T193000
DTEND;TZID=Europe/Amsterdam:20190419T211500
SUMMARY:N - 2. Klasse Triestingtal 2018/19: Oberwaltersdorf - Alland
END:VEVENT
BEGIN:VEVENT
UID:20260422T075016UTC-4703VUUnvK@85.215.121.98
DTSTAMP:20260422T075016Z
DTSTART;TZID=Europe/Amsterdam:20190428T163000
DTEND;TZID=Europe/Amsterdam:20190428T181500
SUMMARY:N - 2. Klasse Triestingtal 2018/19: Alland - Günselsdorf
END:VEVENT
BEGIN:VEVENT
UID:20260422T075016UTC-4709eXWLPa@85.215.121.98
DTSTAMP:20260422T075016Z
DTSTART;TZID=Europe/Amsterdam:20190504T180000
DTEND;TZID=Europe/Amsterdam:20190504T194500
SUMMARY:N - 2. Klasse Triestingtal 2018/19: Klausen-Leopoldsdorf - Alland
END:VEVENT
BEGIN:VEVENT
UID:20260422T075016UTC-4715bLvEIL@85.215.121.98
DTSTAMP:20260422T075016Z
DTSTART;TZID=Europe/Amsterdam:20190510T193000
DTEND;TZID=Europe/Amsterdam:20190510T211500
SUMMARY:N - 2. Klasse Triestingtal 2018/19: Alland - Enzesfeld/H.
END:VEVENT
BEGIN:VEVENT
UID:20260422T075016UTC-4722puvXZJ@85.215.121.98
DTSTAMP:20260422T075016Z
DTSTART;TZID=Europe/Amsterdam:20190518T163000
DTEND;TZID=Europe/Amsterdam:20190518T181500
SUMMARY:N - 2. Klasse Triestingtal 2018/19: Blumau - Alland
END:VEVENT
BEGIN:VEVENT
UID:20260422T075016UTC-4729KhjbvS@85.215.121.98
DTSTAMP:20260422T075016Z
DTSTART;TZID=Europe/Amsterdam:20190524T193000
DTEND;TZID=Europe/Amsterdam:20190524T211500
SUMMARY:N - 2. Klasse Triestingtal 2018/19: Alland - Pottenstein
END:VEVENT
BEGIN:VEVENT
UID:20260422T075016UTC-4736HVlVvV@85.215.121.98
DTSTAMP:20260422T075016Z
DTSTART;TZID=Europe/Amsterdam:20190531T193000
DTEND;TZID=Europe/Amsterdam:20190531T211500
SUMMARY:N - 2. Klasse Triestingtal 2018/19: Traiskirchen KM II - Alland
END:VEVENT
BEGIN:VEVENT
UID:20260422T075016UTC-4742k6Pf0G@85.215.121.98
DTSTAMP:20260422T075016Z
DTSTART;TZID=Europe/Amsterdam:20190608T180000
DTEND;TZID=Europe/Amsterdam:20190608T194500
SUMMARY:N - 2. Klasse Triestingtal 2018/19: Alland - ASV Baden
END:VEVENT
END:VCALENDAR
