BEGIN:VCALENDAR
VERSION:2.0
PRODID:-////NONSGML kigkonsult.se iCalcreator 2.18//
X-WR-TIMEZONE:Europe/Amsterdam
BEGIN:VTIMEZONE
TZID:Europe/Amsterdam
X-LIC-LOCATION:Europe/Amsterdam
BEGIN:STANDARD
DTSTART:20061029T030000
TZOFFSETFROM:+0200
TZOFFSETTO:+0100
RDATE:20071028T030000
TZNAME:CET
END:STANDARD
BEGIN:DAYLIGHT
DTSTART:20070325T020000
TZOFFSETFROM:+0100
TZOFFSETTO:+0200
RDATE:20080330T020000
TZNAME:CEST
END:DAYLIGHT
END:VTIMEZONE
BEGIN:VEVENT
UID:20260423T023455UTC-6996UkwKlV@85.215.121.98
DTSTAMP:20260423T023455Z
DTSTART;TZID=Europe/Amsterdam:20060729T180000
DTEND;TZID=Europe/Amsterdam:20060729T194500
SUMMARY:K - 1. Klasse B 2006/07: St. Egyden - Drautal
END:VEVENT
BEGIN:VEVENT
UID:20260423T023455UTC-7002N0rArf@85.215.121.98
DTSTAMP:20260423T023455Z
DTSTART;TZID=Europe/Amsterdam:20060805T180000
DTEND;TZID=Europe/Amsterdam:20060805T194500
SUMMARY:K - 1. Klasse B 2006/07: Bodensdorf - St. Egyden
END:VEVENT
BEGIN:VEVENT
UID:20260423T023455UTC-7008pJ8OhT@85.215.121.98
DTSTAMP:20260423T023455Z
DTSTART;TZID=Europe/Amsterdam:20060812T163000
DTEND;TZID=Europe/Amsterdam:20060812T181500
SUMMARY:K - 1. Klasse B 2006/07: St. Egyden - Faakersee
END:VEVENT
BEGIN:VEVENT
UID:20260423T023455UTC-7014USsTUp@85.215.121.98
DTSTAMP:20260423T023455Z
DTSTART;TZID=Europe/Amsterdam:20060819T173000
DTEND;TZID=Europe/Amsterdam:20060819T191500
SUMMARY:K - 1. Klasse B 2006/07: SV Wernberg - St. Egyden
END:VEVENT
BEGIN:VEVENT
UID:20260423T023455UTC-7019HwUtPt@85.215.121.98
DTSTAMP:20260423T023455Z
DTSTART;TZID=Europe/Amsterdam:20060827T170000
DTEND;TZID=Europe/Amsterdam:20060827T184500
SUMMARY:K - 1. Klasse B 2006/07: St. Egyden - Maria Gail
END:VEVENT
BEGIN:VEVENT
UID:20260423T023455UTC-7025dwwcVa@85.215.121.98
DTSTAMP:20260423T023455Z
DTSTART;TZID=Europe/Amsterdam:20060903T170000
DTEND;TZID=Europe/Amsterdam:20060903T184500
SUMMARY:K - 1. Klasse B 2006/07: Köstenberg - St. Egyden
END:VEVENT
BEGIN:VEVENT
UID:20260423T023455UTC-7032NG9M1w@85.215.121.98
DTSTAMP:20260423T023455Z
DTSTART;TZID=Europe/Amsterdam:20060909T170000
DTEND;TZID=Europe/Amsterdam:20060909T184500
SUMMARY:K - 1. Klasse B 2006/07: St. Egyden - Rennweg
END:VEVENT
BEGIN:VEVENT
UID:20260423T023455UTC-7038WiN8VG@85.215.121.98
DTSTAMP:20260423T023455Z
DTSTART;TZID=Europe/Amsterdam:20060917T160000
DTEND;TZID=Europe/Amsterdam:20060917T174500
SUMMARY:K - 1. Klasse B 2006/07: Ledenitzen - St. Egyden
END:VEVENT
BEGIN:VEVENT
UID:20260423T023455UTC-7044fuaf0v@85.215.121.98
DTSTAMP:20260423T023455Z
DTSTART;TZID=Europe/Amsterdam:20060923T160000
DTEND;TZID=Europe/Amsterdam:20060923T174500
SUMMARY:K - 1. Klasse B 2006/07: St. Egyden - SC Mühldorf
END:VEVENT
BEGIN:VEVENT
UID:20260423T023455UTC-7051VHmm99@85.215.121.98
DTSTAMP:20260423T023455Z
DTSTART;TZID=Europe/Amsterdam:20060930T160000
DTEND;TZID=Europe/Amsterdam:20060930T174500
SUMMARY:K - 1. Klasse B 2006/07: Arnoldstein - St. Egyden
END:VEVENT
BEGIN:VEVENT
UID:20260423T023455UTC-70599uaeFl@85.215.121.98
DTSTAMP:20260423T023455Z
DTSTART;TZID=Europe/Amsterdam:20061007T160000
DTEND;TZID=Europe/Amsterdam:20061007T174500
SUMMARY:K - 1. Klasse B 2006/07: St. Egyden - Atus Velden
END:VEVENT
BEGIN:VEVENT
UID:20260423T023455UTC-7065iSnDXB@85.215.121.98
DTSTAMP:20260423T023455Z
DTSTART;TZID=Europe/Amsterdam:20061014T160000
DTEND;TZID=Europe/Amsterdam:20061014T174500
SUMMARY:K - 1. Klasse B 2006/07: Weißenstein - St. Egyden
END:VEVENT
BEGIN:VEVENT
UID:20260423T023455UTC-70723ejVsg@85.215.121.98
DTSTAMP:20260423T023455Z
DTSTART;TZID=Europe/Amsterdam:20061021T160000
DTEND;TZID=Europe/Amsterdam:20061021T174500
SUMMARY:K - 1. Klasse B 2006/07: St. Egyden - Afritz
END:VEVENT
BEGIN:VEVENT
UID:20260423T023455UTC-7077N01ClZ@85.215.121.98
DTSTAMP:20260423T023455Z
DTSTART;TZID=Europe/Amsterdam:20061028T153000
DTEND;TZID=Europe/Amsterdam:20061028T171500
SUMMARY:K - 1. Klasse B 2006/07: Drautal - St. Egyden
END:VEVENT
BEGIN:VEVENT
UID:20260423T023455UTC-70847fchEv@85.215.121.98
DTSTAMP:20260423T023455Z
DTSTART;TZID=Europe/Amsterdam:20061104T140000
DTEND;TZID=Europe/Amsterdam:20061104T154500
SUMMARY:K - 1. Klasse B 2006/07: St. Egyden - Bodensdorf
END:VEVENT
BEGIN:VEVENT
UID:20260423T023455UTC-7090feRH9n@85.215.121.98
DTSTAMP:20260423T023455Z
DTSTART;TZID=Europe/Amsterdam:20070401T143000
DTEND;TZID=Europe/Amsterdam:20070401T161500
SUMMARY:K - 1. Klasse B 2006/07: Faakersee - St. Egyden
END:VEVENT
BEGIN:VEVENT
UID:20260423T023455UTC-7097mblzVr@85.215.121.98
DTSTAMP:20260423T023455Z
DTSTART;TZID=Europe/Amsterdam:20070407T150000
DTEND;TZID=Europe/Amsterdam:20070407T164500
SUMMARY:K - 1. Klasse B 2006/07: St. Egyden - SV Wernberg
END:VEVENT
BEGIN:VEVENT
UID:20260423T023455UTC-71025c8sku@85.215.121.98
DTSTAMP:20260423T023455Z
DTSTART;TZID=Europe/Amsterdam:20070415T103000
DTEND;TZID=Europe/Amsterdam:20070415T121500
SUMMARY:K - 1. Klasse B 2006/07: Maria Gail - St. Egyden
END:VEVENT
BEGIN:VEVENT
UID:20260423T023455UTC-71082nCwra@85.215.121.98
DTSTAMP:20260423T023455Z
DTSTART;TZID=Europe/Amsterdam:20070421T150000
DTEND;TZID=Europe/Amsterdam:20070421T164500
SUMMARY:K - 1. Klasse B 2006/07: St. Egyden - Köstenberg
END:VEVENT
BEGIN:VEVENT
UID:20260423T023455UTC-7114rUPT1u@85.215.121.98
DTSTAMP:20260423T023455Z
DTSTART;TZID=Europe/Amsterdam:20070429T150000
DTEND;TZID=Europe/Amsterdam:20070429T164500
SUMMARY:K - 1. Klasse B 2006/07: Rennweg - St. Egyden
END:VEVENT
BEGIN:VEVENT
UID:20260423T023455UTC-7123KgUmdf@85.215.121.98
DTSTAMP:20260423T023455Z
DTSTART;TZID=Europe/Amsterdam:20070505T160000
DTEND;TZID=Europe/Amsterdam:20070505T174500
SUMMARY:K - 1. Klasse B 2006/07: St. Egyden - Ledenitzen
END:VEVENT
BEGIN:VEVENT
UID:20260423T023455UTC-7129djuvvk@85.215.121.98
DTSTAMP:20260423T023455Z
DTSTART;TZID=Europe/Amsterdam:20070513T160000
DTEND;TZID=Europe/Amsterdam:20070513T174500
SUMMARY:K - 1. Klasse B 2006/07: SC Mühldorf - St. Egyden
END:VEVENT
BEGIN:VEVENT
UID:20260423T023455UTC-7136jXWMCU@85.215.121.98
DTSTAMP:20260423T023455Z
DTSTART;TZID=Europe/Amsterdam:20070517T173000
DTEND;TZID=Europe/Amsterdam:20070517T191500
SUMMARY:K - 1. Klasse B 2006/07: St. Egyden - Arnoldstein
END:VEVENT
BEGIN:VEVENT
UID:20260423T023455UTC-7146UAn47n@85.215.121.98
DTSTAMP:20260423T023455Z
DTSTART;TZID=Europe/Amsterdam:20070520T103000
DTEND;TZID=Europe/Amsterdam:20070520T121500
SUMMARY:K - 1. Klasse B 2006/07: Atus Velden - St. Egyden
END:VEVENT
BEGIN:VEVENT
UID:20260423T023455UTC-7152UaaCiA@85.215.121.98
DTSTAMP:20260423T023455Z
DTSTART;TZID=Europe/Amsterdam:20070602T170000
DTEND;TZID=Europe/Amsterdam:20070602T184500
SUMMARY:K - 1. Klasse B 2006/07: St. Egyden - Weißenstein
END:VEVENT
BEGIN:VEVENT
UID:20260423T023455UTC-7160v5gaoo@85.215.121.98
DTSTAMP:20260423T023455Z
DTSTART;TZID=Europe/Amsterdam:20070609T170000
DTEND;TZID=Europe/Amsterdam:20070609T184500
SUMMARY:K - 1. Klasse B 2006/07: Afritz - St. Egyden
END:VEVENT
END:VCALENDAR
