BEGIN:VCALENDAR
VERSION:2.0
PRODID:-////NONSGML kigkonsult.se iCalcreator 2.18//
X-WR-TIMEZONE:Europe/Amsterdam
BEGIN:VTIMEZONE
TZID:Europe/Amsterdam
X-LIC-LOCATION:Europe/Amsterdam
BEGIN:STANDARD
DTSTART:20111030T030000
TZOFFSETFROM:+0200
TZOFFSETTO:+0100
RDATE:20121028T030000
TZNAME:CET
END:STANDARD
BEGIN:DAYLIGHT
DTSTART:20120325T020000
TZOFFSETFROM:+0100
TZOFFSETTO:+0200
RDATE:20130331T020000
TZNAME:CEST
END:DAYLIGHT
END:VTIMEZONE
BEGIN:VEVENT
UID:20260421T150233UTC-97227B2fNR@85.215.121.98
DTSTAMP:20260421T150233Z
DTSTART;TZID=Europe/Amsterdam:20110730T180000
DTEND;TZID=Europe/Amsterdam:20110730T194500
SUMMARY:K - 1. Klasse A 2011/12: Egg - Kötschach
END:VEVENT
BEGIN:VEVENT
UID:20260421T150233UTC-98172rFj2p@85.215.121.98
DTSTAMP:20260421T150233Z
DTSTART;TZID=Europe/Amsterdam:20110807T173000
DTEND;TZID=Europe/Amsterdam:20110807T191500
SUMMARY:K - 1. Klasse A 2011/12: Kötschach - Ainet
END:VEVENT
BEGIN:VEVENT
UID:20260421T150233UTC-98234wbE5V@85.215.121.98
DTSTAMP:20260421T150233Z
DTSTART;TZID=Europe/Amsterdam:20110813T180000
DTEND;TZID=Europe/Amsterdam:20110813T194500
SUMMARY:K - 1. Klasse A 2011/12: Oberes Mölltal - Kötschach
END:VEVENT
BEGIN:VEVENT
UID:20260421T150233UTC-9830FDvsu0@85.215.121.98
DTSTAMP:20260421T150233Z
DTSTART;TZID=Europe/Amsterdam:20110820T180000
DTEND;TZID=Europe/Amsterdam:20110820T194500
SUMMARY:K - 1. Klasse A 2011/12: Kötschach - Stall
END:VEVENT
BEGIN:VEVENT
UID:20260421T150233UTC-9835elhrEr@85.215.121.98
DTSTAMP:20260421T150233Z
DTSTART;TZID=Europe/Amsterdam:20110904T173000
DTEND;TZID=Europe/Amsterdam:20110904T191500
SUMMARY:K - 1. Klasse A 2011/12: Kötschach - SC Mühldorf
END:VEVENT
BEGIN:VEVENT
UID:20260421T150233UTC-9840fbkzM3@85.215.121.98
DTSTAMP:20260421T150233Z
DTSTART;TZID=Europe/Amsterdam:20110909T173000
DTEND;TZID=Europe/Amsterdam:20110909T191500
SUMMARY:K - 1. Klasse A 2011/12: Thal/Assling - Kötschach
END:VEVENT
BEGIN:VEVENT
UID:20260421T150233UTC-9846LO6soh@85.215.121.98
DTSTAMP:20260421T150233Z
DTSTART;TZID=Europe/Amsterdam:20110911T160000
DTEND;TZID=Europe/Amsterdam:20110911T174500
SUMMARY:K - 1. Klasse A 2011/12: Sillian - Kötschach
END:VEVENT
BEGIN:VEVENT
UID:20260421T150233UTC-9852tmr0wi@85.215.121.98
DTSTAMP:20260421T150233Z
DTSTART;TZID=Europe/Amsterdam:20110917T163000
DTEND;TZID=Europe/Amsterdam:20110917T181500
SUMMARY:K - 1. Klasse A 2011/12: Kötschach - Dölsach
END:VEVENT
BEGIN:VEVENT
UID:20260421T150233UTC-98570jgaVZ@85.215.121.98
DTSTAMP:20260421T150233Z
DTSTART;TZID=Europe/Amsterdam:20110924T160000
DTEND;TZID=Europe/Amsterdam:20110924T174500
SUMMARY:K - 1. Klasse A 2011/12: Dellach/Gail - Kötschach
END:VEVENT
BEGIN:VEVENT
UID:20260421T150233UTC-9864fUPXVG@85.215.121.98
DTSTAMP:20260421T150233Z
DTSTART;TZID=Europe/Amsterdam:20111001T160000
DTEND;TZID=Europe/Amsterdam:20111001T174500
SUMMARY:K - 1. Klasse A 2011/12: Kötschach - Tristach
END:VEVENT
BEGIN:VEVENT
UID:20260421T150233UTC-9870U3jtAV@85.215.121.98
DTSTAMP:20260421T150233Z
DTSTART;TZID=Europe/Amsterdam:20111009T160000
DTEND;TZID=Europe/Amsterdam:20111009T174500
SUMMARY:K - 1. Klasse A 2011/12: Dellach/Dr. - Kötschach
END:VEVENT
BEGIN:VEVENT
UID:20260421T150233UTC-9875CvnkU7@85.215.121.98
DTSTAMP:20260421T150233Z
DTSTART;TZID=Europe/Amsterdam:20111015T153000
DTEND;TZID=Europe/Amsterdam:20111015T171500
SUMMARY:K - 1. Klasse A 2011/12: Kötschach - Irschen
END:VEVENT
BEGIN:VEVENT
UID:20260421T150233UTC-9881ikCXVw@85.215.121.98
DTSTAMP:20260421T150233Z
DTSTART;TZID=Europe/Amsterdam:20111022T150000
DTEND;TZID=Europe/Amsterdam:20111022T164500
SUMMARY:K - 1. Klasse A 2011/12: Gmünd - Kötschach
END:VEVENT
BEGIN:VEVENT
UID:20260421T150233UTC-9887AuU50t@85.215.121.98
DTSTAMP:20260421T150233Z
DTSTART;TZID=Europe/Amsterdam:20111029T150000
DTEND;TZID=Europe/Amsterdam:20111029T164500
SUMMARY:K - 1. Klasse A 2011/12: Kötschach - Egg
END:VEVENT
BEGIN:VEVENT
UID:20260421T150233UTC-9895Fbnf5T@85.215.121.98
DTSTAMP:20260421T150233Z
DTSTART;TZID=Europe/Amsterdam:20111105T143000
DTEND;TZID=Europe/Amsterdam:20111105T161500
SUMMARY:K - 1. Klasse A 2011/12: Ainet - Kötschach
END:VEVENT
BEGIN:VEVENT
UID:20260421T150233UTC-9900ZUA94o@85.215.121.98
DTSTAMP:20260421T150233Z
DTSTART;TZID=Europe/Amsterdam:20120331T160000
DTEND;TZID=Europe/Amsterdam:20120331T174500
SUMMARY:K - 1. Klasse A 2011/12: Kötschach - Oberes Mölltal
END:VEVENT
BEGIN:VEVENT
UID:20260421T150233UTC-9907kr6vA6@85.215.121.98
DTSTAMP:20260421T150233Z
DTSTART;TZID=Europe/Amsterdam:20120407T160000
DTEND;TZID=Europe/Amsterdam:20120407T174500
SUMMARY:K - 1. Klasse A 2011/12: Stall - Kötschach
END:VEVENT
BEGIN:VEVENT
UID:20260421T150233UTC-9973Vu3XvP@85.215.121.98
DTSTAMP:20260421T150233Z
DTSTART;TZID=Europe/Amsterdam:20120414T160000
DTEND;TZID=Europe/Amsterdam:20120414T174500
SUMMARY:K - 1. Klasse A 2011/12: Kötschach - Thal/Assling
END:VEVENT
BEGIN:VEVENT
UID:20260421T150233UTC-99798GBSAv@85.215.121.98
DTSTAMP:20260421T150233Z
DTSTART;TZID=Europe/Amsterdam:20120422T230000
DTEND;TZID=Europe/Amsterdam:20120423T004500
SUMMARY:K - 1. Klasse A 2011/12: SC Mühldorf - Kötschach
END:VEVENT
BEGIN:VEVENT
UID:20260421T150234UTC-0014DUj7ne@85.215.121.98
DTSTAMP:20260421T150234Z
DTSTART;TZID=Europe/Amsterdam:20120429T170000
DTEND;TZID=Europe/Amsterdam:20120429T184500
SUMMARY:K - 1. Klasse A 2011/12: Kötschach - Sillian
END:VEVENT
BEGIN:VEVENT
UID:20260421T150234UTC-0044xs0CXn@85.215.121.98
DTSTAMP:20260421T150234Z
DTSTART;TZID=Europe/Amsterdam:20120506T160000
DTEND;TZID=Europe/Amsterdam:20120506T174500
SUMMARY:K - 1. Klasse A 2011/12: Dölsach - Kötschach
END:VEVENT
BEGIN:VEVENT
UID:20260421T150234UTC-0050Bv6E4s@85.215.121.98
DTSTAMP:20260421T150234Z
DTSTART;TZID=Europe/Amsterdam:20120512T170000
DTEND;TZID=Europe/Amsterdam:20120512T184500
SUMMARY:K - 1. Klasse A 2011/12: Kötschach - Dellach/Gail
END:VEVENT
BEGIN:VEVENT
UID:20260421T150234UTC-0056rK0uUh@85.215.121.98
DTSTAMP:20260421T150234Z
DTSTART;TZID=Europe/Amsterdam:20120519T170000
DTEND;TZID=Europe/Amsterdam:20120519T184500
SUMMARY:K - 1. Klasse A 2011/12: Tristach - Kötschach
END:VEVENT
BEGIN:VEVENT
UID:20260421T150234UTC-0062fpaHuD@85.215.121.98
DTSTAMP:20260421T150234Z
DTSTART;TZID=Europe/Amsterdam:20120525T180000
DTEND;TZID=Europe/Amsterdam:20120525T194500
SUMMARY:K - 1. Klasse A 2011/12: Kötschach - Dellach/Dr.
END:VEVENT
BEGIN:VEVENT
UID:20260421T150234UTC-0068NoCzn3@85.215.121.98
DTSTAMP:20260421T150234Z
DTSTART;TZID=Europe/Amsterdam:20120602T180000
DTEND;TZID=Europe/Amsterdam:20120602T194500
SUMMARY:K - 1. Klasse A 2011/12: Irschen - Kötschach
END:VEVENT
BEGIN:VEVENT
UID:20260421T150234UTC-0074vXnip8@85.215.121.98
DTSTAMP:20260421T150234Z
DTSTART;TZID=Europe/Amsterdam:20120609T180000
DTEND;TZID=Europe/Amsterdam:20120609T194500
SUMMARY:K - 1. Klasse A 2011/12: Kötschach - Gmünd
END:VEVENT
END:VCALENDAR
